Workbook

Sheet THANG 1
A1: ĐẢNG BỘ TRƯỜNG CAO ĐẲNG LÝ TỰ TRỌNG THÀNH PHỐ HỒ CHÍ MINH CHI BỘ 2 * | G1: CỘNG HÒA XÃ HỘI CHỦ NGHĨA VIỆT NAM Độc lập - Tự do - Hạnh phúc | R1: 1490000
A2: BẢNG TỔNG HỢP Các khoản thu nhập dùng để tính đóng đảng phí tháng 01/2020
A3: TT | B3: Họ tên | C3: HS lương | D3: PC CV | E3: PC VK | G3: Phụ cấp TNNG | I3: Tổng lương | J3: Thi đua T12/2019 | K3: Tổng số tiền tính đảng phí | L3: Đảng phí 1% | M3: Truy thu | R3: Số tiền nộp
A4: 1 | B4: 2 | C4: 3 | D4: 4 | E4: 5 | F4: 6=3*5 | G4: 7 | H4: 8=(3+4+6)*7 | I4: 9 | J4: 10 | K4: 11=9+10 | L4: 12=11*1% | R4: 13
A5: 1 | B5: Phạm Hữu Lộc | C5: 4.98 | D5: 0.9 | E5: 0.1 | F5: =C5*E5 -> 0.498 | G5: 0.33 | H5: =(C5+D5+F5)*G5 -> 2.10474 | I5: =(C5+D5+F5+H5)*$R$1 -> 12639283 | J5: =(C5+D5+F5)*$R$1 -> 9503220 | K5: =SUM(I5:J5) -> 22142503 | L5: =K5*1% -> 221425.03 | R5: =L5 -> 221425.03 | S5: =C5+D5+F5+H5 -> 8.48274
A6: 2 | B6: Lâm Viết Dũng | C6: 4.65 | D6: 0.45 | F6: =C6*E6 -> 0 | G6: 0.18 | H6: =(C6+D6+F6)*G6 -> 0.918 | I6: =(C6+D6+F6+H6)*$R$1 -> 8966820 | J6: =(C6+D6+F6)*$R$1 -> 7599000 | K6: =SUM(I6:J6) -> 16565820 | L6: =K6*1% -> 165658.2 | R6: =L6 -> 165658.2 | S6: =C6+D6+F6+H6 -> 6.018
A7: 3 | B7: Nguyễn Thị Hoa | C7: 4.65 | D7: 0.35 | F7: =C7*E7 -> 0 | I7: =(C7+D7+F7+H7)*$R$1 -> 7450000 | J7: =(C7+D7+F7)*$R$1 -> 7450000 | K7: =SUM(I7:J7) -> 14900000 | L7: =K7*1% -> 149000 | R7: =L7 -> 149000 | S7: =C7+D7+F7+H7 -> 5
A8: 4 | B8: Nguyễn Văn Chì | C8: 3 | F8: =C8*E8 -> 0 | I8: =(C8+D8+F8+H8)*$R$1 -> 4470000 | J8: =(C8+D8+F8)*$R$1 -> 4470000 | K8: =SUM(I8:J8) -> 8940000 | L8: =K8*1% -> 89400 | R8: =L8 -> 89400 | S8: =C8+D8+F8+H8 -> 3
A9: 5 | B9: Nguyễn Thanh Lâm | C9: 4.98 | D9: 0.45 | E9: 0.12 | F9: =C9*E9 -> 0.5976 | G9: 0.17 | H9: =(C9+D9+F9)*G9 -> 1.024692 | I9: =(C9+D9+F9+H9)*$R$1 -> 10507915 | J9: =(C9+D9+F9)*$R$1 -> 8981124 | K9: =SUM(I9:J9) -> 19489039 | L9: =K9*1% -> 194890.39 | R9: =L9 -> 194890.39 | S9: =C9+D9+F9+H9 -> 7.052292
A10: 6 | B10: Nguyễn Văn Chiến | C10: 3.66 | D10: 0.45 | F10: =C10*E10 -> 0 | I10: =(C10+D10+F10+H10)*$R$1 -> 6123900 | J10: =(C10+D10+F10)*$R$1 -> 6123900 | K10: =SUM(I10:J10) -> 12247800 | L10: =K10*1% -> 122478 | R10: =L10 -> 122478 | S10: =C10+D10+F10+H10 -> 4.11
A11: 7 | B11: Nguyễn Văn Tấn | C11: 4.98 | D11: 0.35 | E11: 0.11 | F11: =C11*E11 -> 0.5478 | I11: =(C11+D11+F11+H11)*$R$1 -> 8757922 | J11: =(C11+D11+F11)*$R$1 -> 8757922 | K11: =SUM(I11:J11) -> 17515844 | L11: =K11*1% -> 175158.44 | R11: =L11 -> 175158.44 | S11: =C11+D11+F11+H11 -> 5.8778
A12: 8 | B12: Nguyễn T Kim Dung | C12: 3.66 | D12: 0.35 | F12: =C12*E12 -> 0 | I12: =(C12+D12+F12+H12)*$R$1 -> 5974900 | J12: =(C12+D12+F12)*$R$1 -> 5974900 | K12: =SUM(I12:J12) -> 11949800 | L12: =K12*1% -> 119498 | R12: =L12 -> 119498 | S12: =C12+D12+F12+H12 -> 4.01
A13: 9 | B13: Nguyễn Chí Nhân | C13: 3.99 | D13: 0.45 | F13: =C13*E13 -> 0 | G13: 0.15 | H13: =(C13+D13+F13)*G13 -> 0.666 | I13: =(C13+D13+F13+H13)*$R$1 -> 7607940 | J13: =(C13+D13+F13)*$R$1 -> 6615600 | K13: =SUM(I13:J13) -> 14223540 | L13: =K13*1% -> 142235.4 | R13: =L13 -> 142235.4 | S13: =C13+D13+F13+H13 -> 5.106
A14: 10 | B14: Lê Quang Liêm | C14: 4.65 | D14: 0.45 | F14: =C14*E14 -> 0 | G14: 0.19 | H14: =(C14+D14+F14)*G14 -> 0.969 | I14: =(C14+D14+F14+H14)*$R$1 -> 9042810 | J14: =(C14+D14+F14)*$R$1 -> 7599000 | K14: =SUM(I14:J14) -> 16641810 | L14: =K14*1% -> 166418.1 | R14: =L14 -> 166418.1 | S14: =C14+D14+F14+H14 -> 6.069
A15: 11 | B15: Võ Thị Xuân Thơ | C15: 3.99 | F15: =C15*E15 -> 0 | I15: =(C15+D15+F15+H15)*$R$1 -> 5945100 | J15: =(C15+D15+F15)*$R$1 -> 5945100 | K15: =SUM(I15:J15) -> 11890200 | L15: =K15*1% -> 118902 | R15: =L15 -> 118902 | S15: =C15+D15+F15+H15 -> 3.99
A16: 12 | B16: Phạm Hữu Tấn | C16: 1.5 | F16: =C16*E16 -> 0 | I16: =(C16+D16+F16+H16)*$R$1 -> 2235000 | J16: =(C16+D16+F16)*$R$1 -> 2235000 | K16: =SUM(I16:J16) -> 4470000 | L16: =K16*1% -> 44700 | R16: =L16 -> 44700 | S16: =C16+D16+F16+H16 -> 1.5
A17: 13 | B17: Nguyễn Ngọc Trang | C17: 5.76 | D17: 0.45 | F17: =C17*E17 -> 0 | G17: 0.27 | H17: =(C17+D17+F17)*G17 -> 1.6767 | I17: =(C17+D17+F17+H17)*$R$1 -> 11751183 | J17: =(T17+D17+F17)*$R$1 -> 670500 | K17: =SUM(I17:J17) -> 12421683 | L17: =K17*1% -> 124216.83 | R17: =L17 -> 124216.83 | S17: =C17+D17+F17+H17 -> 7.8867
A18: 14 | B18: Trương Thị Hồng | C18: 2.269 | F18: =C18*E18 -> 0 | H18: =(C18+D18+F18)*G18 -> 0 | I18: =(C18+D18+F18+H18)*$R$1 -> 3380810 | J18: =(C18+D18+F18)*$R$1 -> 3380810 | K18: =SUM(I18:J18) -> 6761620 | L18: =K18*1% -> 67616.2 | R18: =L18 -> 67616.2 | S18: =C18+D18+F18+H18 -> 2.269
A19: 15 | B19: Lưu Hoàng Hải Yến | C19: 3 | F19: =C19*E19 -> 0 | I19: =(C19+D19+F19+H19)*$R$1 -> 4470000 | J19: =(C19+D19+F19)*$R$1 -> 4470000 | K19: =SUM(I19:J19) -> 8940000 | L19: =K19*1% -> 89400 | R19: =L19 -> 89400 | S19: =C19+D19+F19+H19 -> 3
A20: 16 | B20: Trần Quốc Định | C20: 2.41 | F20: =C20*E20 -> 0 | I20: =(C20+D20+F20+H20)*$R$1 -> 3590900 | J20: =(C20+D20+F20)*$R$1 -> 3590900 | K20: =SUM(I20:J20) -> 7181800 | L20: =K20*1% -> 71818 | R20: =L20 -> 71818 | S20: =C20+D20+F20+H20 -> 2.41
A21: 17 | B21: Lương Xuân Thịnh | C21: 1.989 | F21: =C21*E21 -> 0 | I21: =(C21+D21+F21+H21)*$R$1 -> 2963610 | J21: =(C21+D21+F21)*$R$1 -> 2963610 | K21: =SUM(I21:J21) -> 5927220 | L21: =K21*1% -> 59272.2 | R21: =L21 -> 59272.2 | S21: =C21+D21+F21+H21 -> 1.989
A22: 18 | B22: Nguyễn Thành Nam | C22: 3.99 | D22: 0.35 | F22: =C22*E22 -> 0 | G22: 0.15 | H22: =(C22+D22+F22)*G22 -> 0.651 | I22: =(C22+D22+F22+H22)*$R$1 -> 7436590 | J22: =(C22+D22+F22)*$R$1 -> 6466600 | K22: =SUM(I22:J22) -> 13903190 | L22: =K22*1% -> 139031.9 | R22: =L22 -> 139031.9 | S22: =C22+D22+F22+H22 -> 4.991
A23: 19 | B23: Thái Thị My Sa | C23: 3 | F23: =C23*E23 -> 0 | I23: =(C23+D23+F23+H23)*$R$1 -> 4470000 | J23: =(C23+D23+F23)*$R$1 -> 4470000 | K23: =SUM(I23:J23) -> 8940000 | L23: =K23*1% -> 89400 | R23: =L23 -> 89400 | S23: =C23+D23+F23+H23 -> 3
A24: TỔNG CỘNG: | J24: =SUM(J5:J23) -> 107267186 | K24: =SUM(K5:K23) -> 2.3505187e+08 | L24: =SUM(L5:L23) -> 2350518.7 | M24: =SUM(M5:M23) -> 0 | N24: =SUM(N5:N23) -> 0 | O24: =SUM(O5:O23) -> 0 | P24: =SUM(P5:P23) -> 0 | Q24: =SUM(Q5:Q23) -> 0 | R24: =SUM(R5:R23) -> 2350518.7
A26: - Chi bộ trích lại 30% tiền thu đảng phí: | D26: =R24*30% -> 705155.61
A27: - Chi bộ nộp lên đảng bộ trường 70%: | D27: =R24*70% -> 1645363.1
A28: NGƯỜI LẬP BÁO CÁO | L28: T/M CHI BỘ
L29: BÍ THƯ
A35: Nguyễn Thị Hoa | K35: Lâm Viết Dũng

Sheet THANG 2
A1: ĐẢNG BỘ TRƯỜNG CAO ĐẲNG LÝ TỰ TRỌNG THÀNH PHỐ HỒ CHÍ MINH CHI BỘ 2 * | G1: CỘNG HÒA XÃ HỘI CHỦ NGHĨA VIỆT NAM Độc lập - Tự do - Hạnh phúc | S1: 1490000
A2: BẢNG TỔNG HỢP Các khoản thu nhập dùng để tính đóng đảng phí tháng 02/2020
A3: TT | B3: Họ tên | C3: HS lương | D3: PC CV | E3: PC VK | G3: Phụ cấp TNNG | I3: Tổng lương | J3: Thi đua T1/2020 | K3: Hiệu quả Quý 4/2019 | L3: Tổng số tiền tính đảng phí | M3: Đảng phí 1% | N3: Truy thu | S3: Số tiền nộp
A4: 1 | B4: 2 | C4: 3 | D4: 4 | E4: 5 | F4: 6=3*5 | G4: 7 | H4: 8=(3+4+6)*7 | I4: 9 | J4: 10 | K4: 11 | L4: 12=9+10+11 | M4: 13=12*1% | N4: 14 | S4: 15
A5: 1 | B5: Phạm Hữu Lộc | C5: 4.98 | D5: 0.9 | E5: 0.1 | F5: =C5*E5 -> 0.498 | G5: 0.33 | H5: =(C5+D5+F5)*G5 -> 2.10474 | I5: =(C5+D5+F5+H5)*$S$1 -> 12639283 | J5: =(C5+D5+F5)*$S$1 -> 9503220 | K5: 34211592 | L5: =SUM(I5:K5) -> 56354095 | M5: =L5*1% -> 563540.95 | S5: =M5 -> 563540.95 | T5: =C5+D5+F5+H5 -> 8.48274
A6: 2 | B6: Lâm Viết Dũng | C6: 4.65 | D6: 0.45 | F6: =C6*E6 -> 0 | G6: 0.18 | H6: =(C6+D6+F6)*G6 -> 0.918 | I6: =(C6+D6+F6+H6)*$S$1 -> 8966820 | J6: =(C6+D6+F6)*$S$1 -> 7599000 | K6: 27356400 | L6: =SUM(I6:K6) -> 43922220 | M6: =L6*1% -> 439222.2 | S6: =M6 -> 439222.2 | T6: =C6+D6+F6+H6 -> 6.018
A7: 3 | B7: Nguyễn Thị Hoa | C7: 4.98 | D7: 0.35 | F7: =C7*E7 -> 0 | I7: =(C7+D7+F7+H7)*$S$1 -> 7941700 | J7: =(C7+D7+F7)*$S$1 -> 7941700 | K7: 28590120 | L7: =SUM(I7:K7) -> 44473520 | M7: =L7*1% -> 444735.2 | S7: =M7 -> 444735.2 | T7: =C7+D7+F7+H7 -> 5.33
A8: 4 | B8: Nguyễn Văn Chì | C8: 3.33 | F8: =C8*E8 -> 0 | I8: =(C8+D8+F8+H8)*$S$1 -> 4961700 | J8: =(C8+D8+F8)*$S$1 -> 4961700 | K8: 16092000 | L8: =SUM(I8:K8) -> 26015400 | M8: =L8*1% -> 260154 | S8: =M8 -> 260154 | T8: =C8+D8+F8+H8 -> 3.33
A9: 5 | B9: Nguyễn Thanh Lâm | C9: 4.98 | D9: 0.45 | E9: 0.12 | F9: =C9*E9 -> 0.5976 | G9: 0.17 | H9: =(C9+D9+F9)*G9 -> 1.024692 | I9: =(C9+D9+F9+H9)*$S$1 -> 10507915 | J9: =(C9+D9+F9)*$S$1 -> 8981124 | K9: 32332046 | L9: =SUM(I9:K9) -> 51821085 | M9: =L9*1% -> 518210.85 | S9: =M9 -> 518210.85 | T9: =C9+D9+F9+H9 -> 7.052292
A10: 6 | B10: Nguyễn Văn Chiến | C10: 3.99 | D10: 0.45 | F10: =C10*E10 -> 0 | I10: =(C10+D10+F10+H10)*$S$1 -> 6615600 | J10: =(C10+D10+F10)*$S$1 -> 6615600 | K10: 23458560 | L10: =SUM(I10:K10) -> 36689760 | M10: =L10*1% -> 366897.6 | S10: =M10 -> 366897.6 | T10: =C10+D10+F10+H10 -> 4.44
A11: 7 | B11: Nguyễn Văn Tấn | C11: 4.98 | D11: 0.35 | E11: 0.11 | F11: =C11*E11 -> 0.5478 | I11: =(C11+D11+F11+H11)*$S$1 -> 8757922 | J11: =(C11+D11+F11)*$S$1 -> 8757922 | K11: 31071584 | L11: =SUM(I11:K11) -> 48587428 | M11: =L11*1% -> 485874.28 | S11: =M11 -> 485874.28 | T11: =C11+D11+F11+H11 -> 5.8778
A12: 8 | B12: Nguyễn T Kim Dung | C12: 3.99 | D12: 0.35 | F12: =C12*E12 -> 0 | I12: =(C12+D12+F12+H12)*$S$1 -> 6466600 | J12: =(C12+D12+F12)*$S$1 -> 6466600 | K12: 18623808 | L12: =SUM(I12:K12) -> 31557008 | M12: =L12*1% -> 315570.08 | S12: =M12 -> 315570.08 | T12: =C12+D12+F12+H12 -> 4.34
A13: 9 | B13: Nguyễn Chí Nhân | C13: 3.99 | D13: 0.45 | F13: =C13*E13 -> 0 | G13: 0.15 | H13: =(C13+D13+F13)*G13 -> 0.666 | I13: =(C13+D13+F13+H13)*$S$1 -> 7607940 | J13: =(C13+D13+F13)*$S$1 -> 6615600 | K13: 19052928 | L13: =SUM(I13:K13) -> 33276468 | M13: =L13*1% -> 332764.68 | S13: =M13 -> 332764.68 | T13: =C13+D13+F13+H13 -> 5.106
A14: 10 | B14: Lê Quang Liêm | C14: 4.65 | D14: 0.45 | F14: =C14*E14 -> 0 | G14: 0.19 | H14: =(C14+D14+F14)*G14 -> 0.969 | I14: =(C14+D14+F14+H14)*$S$1 -> 9042810 | J14: =(C14+D14+F14)*$S$1 -> 7599000 | K14: 27356400 | L14: =SUM(I14:K14) -> 43998210 | M14: =L14*1% -> 439982.1 | S14: =M14 -> 439982.1 | T14: =C14+D14+F14+H14 -> 6.069
A15: 11 | B15: Võ Thị Xuân Thơ | C15: 3.99 | F15: =C15*E15 -> 0 | I15: =(C15+D15+F15+H15)*$S$1 -> 5945100 | J15: =(C15+D15+F15)*$S$1 -> 5945100 | K15: 21402360 | L15: =SUM(I15:K15) -> 33292560 | M15: =L15*1% -> 332925.6 | S15: =M15 -> 332925.6 | T15: =C15+D15+F15+H15 -> 3.99
A16: 12 | B16: Phạm Hữu Tấn | F16: =C16*E16 -> 0 | I16: 5313481 | J16: =I16*55% -> 2922414.6 | L16: =SUM(I16:K16) -> 8235895.6 | M16: =L16*1% -> 82358.956 | S16: =M16 -> 82358.956 | T16: =C16+D16+F16+H16 -> 0
A17: 13 | B17: Nguyễn Ngọc Trang | C17: 5.76 | D17: 0.45 | F17: =C17*E17 -> 0 | G17: 0.27 | H17: =(C17+D17+F17)*G17 -> 1.6767 | I17: =(C17+D17+F17+H17)*$S$1 -> 11751183 | J17: =(C17+D17+F17)*$S$1 -> 9252900 | K17: 33310440 | L17: =SUM(I17:K17) -> 54314523 | M17: =L17*1% -> 543145.23 | N17: ='THANG 3'!S17-'THANG 1'!R17 -> 85824 | S17: =M17+N17 -> 628969.23 | T17: =C17+D17+F17+H17 -> 7.8867
A18: 14 | B18: Trương Thị Hồng | C18: 2.269 | F18: =C18*E18 -> 0 | H18: =(C18+D18+F18)*G18 -> 0 | I18: =(C18+D18+F18+H18)*$S$1 -> 3380810 | J18: =(C18+D18+F18)*$S$1 -> 3380810 | K18: 8113944 | L18: =SUM(I18:K18) -> 14875564 | M18: =L18*1% -> 148755.64 | S18: =M18 -> 148755.64 | T18: =C18+D18+F18+H18 -> 2.269
A19: 15 | B19: Lưu Hoàng Hải Yến | C19: 3 | F19: =C19*E19 -> 0 | I19: =(C19+D19+F19+H19)*$S$1 -> 4470000 | J19: =(C19+D19+F19)*$S$1 -> 4470000 | K19: 16092000 | L19: =SUM(I19:K19) -> 25032000 | M19: =L19*1% -> 250320 | S19: =M19 -> 250320 | T19: =C19+D19+F19+H19 -> 3
A20: 16 | B20: Lương Xuân Thịnh | C20: 2.34 | D20: 0.35 | F20: =C20*E20 -> 0 | I20: =(C20+D20+F20+H20)*$S$1 -> 4008100 | J20: =(C20+D20+F20)*$S$1 -> 4008100 | K20: 11824122 | L20: =SUM(I20:K20) -> 19840322 | M20: =L20*1% -> 198403.22 | S20: =M20 -> 198403.22 | T20: =C20+D20+F20+H20 -> 2.69 | V20: =S20-187973 -> 10430.217
A21: 17 | B21: Nguyễn Thành Nam | C21: 3.99 | D21: 0.45 | F21: =C21*E21 -> 0 | G21: 0.15 | H21: =(C21+D21+F21)*G21 -> 0.666 | I21: =(C21+D21+F21+H21)*$S$1 -> 7607940 | J21: =(C21+D21+F21)*$S$1 -> 6615600 | K21: 18623808 | L21: =SUM(I21:K21) -> 32847348 | M21: =L21*1% -> 328473.48 | S21: =M21 -> 328473.48 | T21: =C21+D21+F21+H21 -> 5.106
A22: 18 | B22: Thái Thị My Sa | C22: 3 | F22: =C22*E22 -> 0 | I22: =(C22+D22+F22+H22)*$S$1 -> 4470000 | J22: =(C22+D22+F22)*$S$1 -> 4470000 | K22: 16092000 | L22: =SUM(I22:K22) -> 25032000 | M22: =L22*1% -> 250320 | S22: =M22 -> 250320 | T22: =C22+D22+F22+H22 -> 3
A23: TỔNG CỘNG: | J23: =SUM(J5:J22) -> 1.1610639e+08 | K23: =SUM(K5:K22) -> 3.8360411e+08 | L23: =SUM(L5:L22) -> 6.3016541e+08 | M23: =SUM(M5:M22) -> 6301654.1 | N23: =SUM(N5:N22) -> 85824 | O23: =SUM(O5:O22) -> 0 | P23: =SUM(P5:P22) -> 0 | Q23: =SUM(Q5:Q22) -> 0 | ... S23: =SUM(S5:S22) -> 6387478.1
A25: - Chi bộ trích lại 30% tiền thu đảng phí: | D25: =S23*30% -> 1916243.4
A26: - Chi bộ nộp lên đảng bộ trường 70%: | D26: =S23*70% -> 4471234.6
A27: NGƯỜI LẬP BÁO CÁO | L27: T/M CHI BỘ
L28: BÍ THƯ
L34: Lâm Viết Dũng

Sheet THANG 3
A1: ĐẢNG BỘ TRƯỜNG CAO ĐẲNG LÝ TỰ TRỌNG THÀNH PHỐ HỒ CHÍ MINH CHI BỘ 2 * | G1: CỘNG HÒA XÃ HỘI CHỦ NGHĨA VIỆT NAM Độc lập - Tự do - Hạnh phúc | S1: 1490000
A2: BẢNG TỔNG HỢP Các khoản thu nhập dùng để tính đóng đảng phí tháng 3/2020
A3: TT | B3: Họ tên | C3: HS lương | D3: PC CV | E3: PC VK | G3: Phụ cấp TNNG | I3: Tổng lương | J3: Thi đua T2/2020 | K3: Hiệu quả Quý 4/2019 | L3: Tổng số tiền tính đảng phí | M3: Đảng phí 1% | N3: Truy thu | S3: Số tiền nộp
A4: 1 | B4: 2 | C4: 3 | D4: 4 | E4: 5 | F4: 6=3*5 | G4: 7 | H4: 8=(3+4+6)*7 | I4: 9 | J4: 10 | K4: 11 | L4: 12=9+10+11 | M4: 13=12*1% | S4: 14
A5: 1 | B5: Phạm Hữu Lộc | C5: 4.98 | D5: 0.9 | E5: 0.1 | F5: =C5*E5 -> 0.498 | G5: 0.33 | H5: =(C5+D5+F5)*G5 -> 2.10474 | I5: =(C5+D5+F5+H5)*$S$1 -> 12639283 | J5: =(C5+D5+F5)*$S$1 -> 9503220 | L5: =SUM(I5:K5) -> 22142503 | M5: =L5*1% -> 221425.03 | S5: =M5 -> 221425.03 | T5: =C5+D5+F5+H5 -> 8.48274
A6: 2 | B6: Lâm Viết Dũng | C6: 4.65 | D6: 0.45 | F6: =C6*E6 -> 0 | G6: 0.18 | H6: =(C6+D6+F6)*G6 -> 0.918 | I6: =(C6+D6+F6+H6)*$S$1 -> 8966820 | J6: =(C6+D6+F6)*$S$1 -> 7599000 | L6: =SUM(I6:K6) -> 16565820 | M6: =L6*1% -> 165658.2 | S6: =M6 -> 165658.2 | T6: =C6+D6+F6+H6 -> 6.018
A7: 3 | B7: Nguyễn Thị Hoa | C7: 4.98 | D7: 0.35 | F7: =C7*E7 -> 0 | I7: =(C7+D7+F7+H7)*$S$1 -> 7941700 | J7: =(C7+D7+F7)*$S$1 -> 7941700 | L7: =SUM(I7:K7) -> 15883400 | M7: =L7*1% -> 158834 | S7: =M7 -> 158834 | T7: =C7+D7+F7+H7 -> 5.33
A8: 4 | B8: Nguyễn Văn Chì | C8: 3.33 | F8: =C8*E8 -> 0 | I8: =(C8+D8+F8+H8)*$S$1 -> 4961700 | J8: =(C8+D8+F8)*$S$1 -> 4961700 | L8: =SUM(I8:K8) -> 9923400 | M8: =L8*1% -> 99234 | S8: =M8 -> 99234 | T8: =C8+D8+F8+H8 -> 3.33
A9: 5 | B9: Nguyễn Thanh Lâm | C9: 4.98 | D9: 0.45 | E9: 0.12 | F9: =C9*E9 -> 0.5976 | G9: 0.17 | H9: =(C9+D9+F9)*G9 -> 1.024692 | I9: =(C9+D9+F9+H9)*$S$1 -> 10507915 | J9: =(C9+D9+F9)*$S$1 -> 8981124 | L9: =SUM(I9:K9) -> 19489039 | M9: =L9*1% -> 194890.39 | S9: =M9 -> 194890.39 | T9: =C9+D9+F9+H9 -> 7.052292
A10: 6 | B10: Nguyễn Văn Chiến | C10: 3.99 | D10: 0.45 | F10: =C10*E10 -> 0 | I10: =(C10+D10+F10+H10)*$S$1 -> 6615600 | J10: =(C10+D10+F10)*$S$1 -> 6615600 | L10: =SUM(I10:K10) -> 13231200 | M10: =L10*1% -> 132312 | S10: =M10 -> 132312 | T10: =C10+D10+F10+H10 -> 4.44
A11: 7 | B11: Nguyễn Văn Tấn | C11: 4.98 | D11: 0.35 | E11: 0.11 | F11: =C11*E11 -> 0.5478 | I11: =(C11+D11+F11+H11)*$S$1 -> 8757922 | J11: =(C11+D11+F11)*$S$1 -> 8757922 | L11: =SUM(I11:K11) -> 17515844 | M11: =L11*1% -> 175158.44 | S11: =M11 -> 175158.44 | T11: =C11+D11+F11+H11 -> 5.8778
A12: 8 | B12: Nguyễn T Kim Dung | C12: 3.99 | D12: 0.35 | F12: =C12*E12 -> 0 | I12: =(C12+D12+F12+H12)*$S$1 -> 6466600 | J12: =(C12+D12+F12)*$S$1 -> 6466600 | L12: =SUM(I12:K12) -> 12933200 | M12: =L12*1% -> 129332 | S12: =M12 -> 129332 | T12: =C12+D12+F12+H12 -> 4.34
A13: 9 | B13: Nguyễn Chí Nhân | C13: 3.99 | D13: 0.45 | F13: =C13*E13 -> 0 | G13: 0.15 | H13: =(C13+D13+F13)*G13 -> 0.666 | I13: =(C13+D13+F13+H13)*$S$1 -> 7607940 | J13: =(C13+D13+F13)*$S$1 -> 6615600 | L13: =SUM(I13:K13) -> 14223540 | M13: =L13*1% -> 142235.4 | S13: =M13 -> 142235.4 | T13: =C13+D13+F13+H13 -> 5.106
A14: 10 | B14: Lê Quang Liêm | C14: 4.65 | D14: 0.45 | F14: =C14*E14 -> 0 | G14: 0.19 | H14: =(C14+D14+F14)*G14 -> 0.969 | I14: =(C14+D14+F14+H14)*$S$1 -> 9042810 | J14: =(C14+D14+F14)*$S$1 -> 7599000 | L14: =SUM(I14:K14) -> 16641810 | M14: =L14*1% -> 166418.1 | S14: =M14 -> 166418.1 | T14: =C14+D14+F14+H14 -> 6.069
A15: 11 | B15: Võ Thị Xuân Thơ | C15: 3.99 | F15: =C15*E15 -> 0 | I15: =(C15+D15+F15+H15)*$S$1 -> 5945100 | J15: =(C15+D15+F15)*$S$1 -> 5945100 | L15: =SUM(I15:K15) -> 11890200 | M15: =L15*1% -> 118902 | S15: =M15 -> 118902 | T15: =C15+D15+F15+H15 -> 3.99
A16: 12 | B16: Phạm Hữu Tấn | F16: =C16*E16 -> 0 | I16: 5313481 | J16: =I16*55% -> 2922414.6 | L16: =SUM(I16:K16) -> 8235895.6 | M16: =L16*1% -> 82358.956 | S16: =M16 -> 82358.956 | T16: =C16+D16+F16+H16 -> 0
A17: 13 | B17: Nguyễn Ngọc Trang | C17: 5.76 | D17: 0.45 | F17: =C17*E17 -> 0 | G17: 0.27 | H17: =(C17+D17+F17)*G17 -> 1.6767 | I17: =(C17+D17+F17+H17)*$S$1 -> 11751183 | J17: =(C17+D17+F17)*$S$1 -> 9252900 | L17: =SUM(I17:K17) -> 21004083 | M17: =L17*1% -> 210040.83 | S17: =M17 -> 210040.83 | T17: =C17+D17+F17+H17 -> 7.8867
A18: 14 | B18: Trương Thị Hồng | C18: 2.269 | F18: =C18*E18 -> 0 | H18: =(C18+D18+F18)*G18 -> 0 | I18: =(C18+D18+F18+H18)*$S$1 -> 3380810 | J18: =(C18+D18+F18)*$S$1 -> 3380810 | L18: =SUM(I18:K18) -> 6761620 | M18: =L18*1% -> 67616.2 | S18: =M18 -> 67616.2 | T18: =C18+D18+F18+H18 -> 2.269
A19: 15 | B19: Lưu Hoàng Hải Yến | C19: 3 | F19: =C19*E19 -> 0 | I19: =(C19+D19+F19+H19)*$S$1 -> 4470000 | J19: =(C19+D19+F19)*$S$1 -> 4470000 | L19: =SUM(I19:K19) -> 8940000 | M19: =L19*1% -> 89400 | S19: =M19 -> 89400 | T19: =C19+D19+F19+H19 -> 3
A20: 16 | B20: Lương Xuân Thịnh | C20: 2.34 | D20: 0.35 | F20: =C20*E20 -> 0 | I20: =(C20+D20+F20+H20)*$S$1 -> 4008100 | J20: =(C20+D20+F20)*$S$1 -> 4008100 | L20: =SUM(I20:K20) -> 8016200 | M20: =L20*1% -> 80162 | S20: =M20 -> 80162 | T20: =C20+D20+F20+H20 -> 2.69
A21: 17 | B21: Nguyễn Thành Nam | C21: 3.99 | D21: 0.45 | F21: =C21*E21 -> 0 | G21: 0.15 | H21: =(C21+D21+F21)*G21 -> 0.666 | I21: =(C21+D21+F21+H21)*$S$1 -> 7607940 | J21: =(C21+D21+F21)*$S$1 -> 6615600 | L21: =SUM(I21:K21) -> 14223540 | M21: =L21*1% -> 142235.4 | S21: =M21 -> 142235.4 | T21: =C21+D21+F21+H21 -> 5.106
A22: 18 | B22: Thái Thị My Sa | C22: 3 | F22: =C22*E22 -> 0 | I22: =(C22+D22+F22+H22)*$S$1 -> 4470000 | J22: =(C22+D22+F22)*$S$1 -> 4470000 | L22: =SUM(I22:K22) -> 8940000 | M22: =L22*1% -> 89400 | S22: =M22 -> 89400 | T22: =C22+D22+F22+H22 -> 3
A23: TỔNG CỘNG: | J23: =SUM(J5:J22) -> 1.1610639e+08 | K23: =SUM(K5:K22) -> 0 | L23: =SUM(L5:L22) -> 2.4656129e+08 | M23: =SUM(M5:M22) -> 2465612.9 | N23: =SUM(N5:N22) -> 0 | O23: =SUM(O5:O22) -> 0 | P23: =SUM(P5:P22) -> 0 | Q23: =SUM(Q5:Q22) -> 0 | ... S23: =SUM(S5:S22) -> 2465612.9
A25: - Chi bộ trích lại 30% tiền thu đảng phí: | D25: =S23*30% -> 739683.88
A26: - Chi bộ nộp lên đảng bộ trường 70%: | D26: =S23*70% -> 1725929.1
A27: NGƯỜI LẬP BÁO CÁO | L27: T/M CHI BỘ
L28: BÍ THƯ
L34: Lâm Viết Dũng

Sheet THANG 4
A1: ĐẢNG BỘ TRƯỜNG CAO ĐẲNG LÝ TỰ TRỌNG THÀNH PHỐ HỒ CHÍ MINH CHI BỘ 2 * | G1: CỘNG HÒA XÃ HỘI CHỦ NGHĨA VIỆT NAM Độc lập - Tự do - Hạnh phúc | S1: 1490000
A2: BẢNG TỔNG HỢP Các khoản thu nhập dùng để tính đóng đảng phí tháng 4/2020
A3: TT | B3: Họ tên | C3: HS lương | D3: PC CV | E3: PC VK | G3: Phụ cấp TNNG | I3: Tổng lương | J3: Thi đua T3/2020 | K3: Hiệu quả Quý 4/2019 | L3: Tổng số tiền tính đảng phí | M3: Đảng phí 1% | N3: Truy thu | S3: Số tiền nộp | U3: T 2, 3, 4
A4: 1 | B4: 2 | C4: 3 | D4: 4 | E4: 5 | F4: 6=3*5 | G4: 7 | H4: 8=(3+4+6)*7 | I4: 9 | J4: 10 | K4: 11 | L4: 12=9+10+11 | M4: 13=12*1% | S4: 14
A5: 1 | B5: Phạm Hữu Lộc | C5: 4.98 | D5: 0.9 | E5: 0.1 | F5: =C5*E5 -> 0.498 | G5: 0.33 | H5: =(C5+D5+F5)*G5 -> 2.10474 | I5: =(C5+D5+F5+H5)*$S$1 -> 12639283 | J5: =(C5+D5+F5)*$S$1 -> 9503220 | L5: =SUM(I5:K5) -> 22142503 | M5: =L5*1% -> 221425.03 | S5: =M5 -> 221425.03 | T5: =C5+D5+F5+H5 -> 8.48274 | U5: ='THANG 2'!S5+'THANG 3'!S5+'THANG 4'!S5 -> 1006391
A6: 2 | B6: Lâm Viết Dũng | C6: 4.65 | D6: 0.45 | F6: =C6*E6 -> 0 | G6: 0.18 | H6: =(C6+D6+F6)*G6 -> 0.918 | I6: =(C6+D6+F6+H6)*$S$1 -> 8966820 | J6: =(C6+D6+F6)*$S$1 -> 7599000 | L6: =SUM(I6:K6) -> 16565820 | M6: =L6*1% -> 165658.2 | S6: =M6 -> 165658.2 | T6: =C6+D6+F6+H6 -> 6.018 | U6: ='THANG 2'!S6+'THANG 3'!S6+'THANG 4'!S6 -> 770538.6
A7: 3 | B7: Trương Thị Hồng | C7: 2.269 | F7: =C7*E7 -> 0 | H7: =(C7+D7+F7)*G7 -> 0 | I7: =(C7+D7+F7+H7)*$S$1 -> 3380810 | J7: =(C7+D7+F7)*$S$1 -> 3380810 | L7: =SUM(I7:K7) -> 6761620 | M7: =L7*1% -> 67616.2 | S7: =M7 -> 67616.2 | T7: =C7+D7+F7+H7 -> 2.269 | U7: ='THANG 2'!S18+'THANG 3'!S18+'THANG 4'!S7 -> 283988.04
A8: 4 | B8: Nguyễn Văn Chiến | C8: 3.99 | D8: 0.45 | F8: =C8*E8 -> 0 | I8: =(C8+D8+F8+H8)*$S$1 -> 6615600 | J8: =(C8+D8+F8)*$S$1 -> 6615600 | L8: =SUM(I8:K8) -> 13231200 | M8: =L8*1% -> 132312 | S8: =M8 -> 132312 | T8: =C8+D8+F8+H8 -> 4.44 | U8: ='THANG 2'!S10+'THANG 3'!S10+'THANG 4'!S8 -> 631521.6
A9: 5 | B9: Nguyễn Thị Hoa | C9: 4.98 | D9: 0.35 | F9: =C9*E9 -> 0 | I9: =(C9+D9+F9+H9)*$S$1 -> 7941700 | J9: =(C9+D9+F9)*$S$1 -> 7941700 | L9: =SUM(I9:K9) -> 15883400 | M9: =L9*1% -> 158834 | S9: =M9 -> 158834 | T9: =C9+D9+F9+H9 -> 5.33 | U9: ='THANG 2'!S7+'THANG 3'!S7+'THANG 4'!S9 -> 762403.2
A10: 6 | B10: Nguyễn Văn Tấn | C10: 4.98 | D10: 0.35 | E10: 0.11 | F10: =C10*E10 -> 0.5478 | I10: =(C10+D10+F10+H10)*$S$1 -> 8757922 | J10: =(C10+D10+F10)*$S$1 -> 8757922 | L10: =SUM(I10:K10) -> 17515844 | M10: =L10*1% -> 175158.44 | S10: =M10 -> 175158.44 | T10: =C10+D10+F10+H10 -> 5.8778 | U10: ='THANG 2'!S11+'THANG 3'!S11+'THANG 4'!S10 -> 836191.16
A11: 7 | B11: Nguyễn T Kim Dung | C11: 3.99 | D11: 0.35 | F11: =C11*E11 -> 0 | I11: =(C11+D11+F11+H11)*$S$1 -> 6466600 | J11: =(C11+D11+F11)*$S$1 -> 6466600 | L11: =SUM(I11:K11) -> 12933200 | M11: =L11*1% -> 129332 | S11: =M11 -> 129332 | T11: =C11+D11+F11+H11 -> 4.34 | U11: ='THANG 2'!S12+'THANG 3'!S12+'THANG 4'!S11 -> 574234.08
A12: 8 | B12: Nguyễn Chí Nhân | C12: 3.99 | D12: 0.45 | F12: =C12*E12 -> 0 | G12: 0.15 | H12: =(C12+D12+F12)*G12 -> 0.666 | I12: =(C12+D12+F12+H12)*$S$1 -> 7607940 | J12: =(C12+D12+F12)*$S$1 -> 6615600 | L12: =SUM(I12:K12) -> 14223540 | M12: =L12*1% -> 142235.4 | S12: =M12 -> 142235.4 | T12: =C12+D12+F12+H12 -> 5.106 | U12: ='THANG 2'!S13+'THANG 3'!S13+'THANG 4'!S12 -> 617235.48
A13: 9 | B13: Lê Quang Liêm | C13: 4.65 | D13: 0.45 | F13: =C13*E13 -> 0 | G13: 0.19 | H13: =(C13+D13+F13)*G13 -> 0.969 | I13: =(C13+D13+F13+H13)*$S$1 -> 9042810 | J13: =(C13+D13+F13)*$S$1 -> 7599000 | L13: =SUM(I13:K13) -> 16641810 | M13: =L13*1% -> 166418.1 | S13: =M13 -> 166418.1 | T13: =C13+D13+F13+H13 -> 6.069 | U13: ='THANG 2'!S14+'THANG 3'!S14+'THANG 4'!S13 -> 772818.3
A14: 10 | B14: Võ Thị Xuân Thơ | C14: 3.99 | F14: =C14*E14 -> 0 | I14: =(C14+D14+F14+H14)*$S$1 -> 5945100 | J14: =(C14+D14+F14)*$S$1 -> 5945100 | L14: =SUM(I14:K14) -> 11890200 | M14: =L14*1% -> 118902 | S14: =M14 -> 118902 | T14: =C14+D14+F14+H14 -> 3.99 | U14: ='THANG 2'!S15+'THANG 3'!S15+'THANG 4'!S14 -> 570729.6
A15: 11 | B15: Phạm Hữu Tấn | F15: =C15*E15 -> 0 | I15: 5313481 | J15: =I15*55% -> 2922414.6 | L15: =SUM(I15:K15) -> 8235895.6 | M15: =L15*1% -> 82358.956 | S15: =M15 -> 82358.956 | T15: =C15+D15+F15+H15 -> 0 | U15: ='THANG 2'!S16+'THANG 3'!S16+'THANG 4'!S15 -> 247076.87
A16: 12 | B16: Nguyễn Ngọc Trang | C16: 5.76 | D16: 0.45 | F16: =C16*E16 -> 0 | G16: 0.27 | H16: =(C16+D16+F16)*G16 -> 1.6767 | I16: =(C16+D16+F16+H16)*$S$1 -> 11751183 | J16: =(C16+D16+F16)*$S$1 -> 9252900 | L16: =SUM(I16:K16) -> 21004083 | M16: =L16*1% -> 210040.83 | S16: =M16 -> 210040.83 | T16: =C16+D16+F16+H16 -> 7.8867 | U16: ='THANG 2'!S17+'THANG 3'!S17+'THANG 4'!S16 -> 1049050.9
A17: 13 | B17: Nguyễn Văn Chì | C17: 3.33 | F17: =C17*E17 -> 0 | I17: =(C17+D17+F17+H17)*$S$1 -> 4961700 | J17: =(C17+D17+F17)*$S$1 -> 4961700 | L17: =SUM(I17:K17) -> 9923400 | M17: =L17*1% -> 99234 | S17: =M17 -> 99234 | T17: =C17+D17+F17+H17 -> 3.33 | U17: ='THANG 2'!S8+'THANG 3'!S8+'THANG 4'!S17 -> 458622
A18: 14 | B18: Lưu Hoàng Hải Yến | C18: 3 | F18: =C18*E18 -> 0 | I18: =(C18+D18+F18+H18)*$S$1 -> 4470000 | J18: =(C18+D18+F18)*$S$1 -> 4470000 | L18: =SUM(I18:K18) -> 8940000 | M18: =L18*1% -> 89400 | S18: =M18 -> 89400 | T18: =C18+D18+F18+H18 -> 3 | U18: ='THANG 2'!S19+'THANG 3'!S19+'THANG 4'!S18 -> 429120
A19: 15 | B19: Lương Xuân Thịnh | C19: 2.34 | D19: 0.35 | F19: =C19*E19 -> 0 | I19: =(C19+D19+F19+H19)*$S$1 -> 4008100 | J19: =(C19+D19+F19)*$S$1 -> 4008100 | L19: =SUM(I19:K19) -> 8016200 | M19: =L19*1% -> 80162 | S19: =M19 -> 80162 | T19: =C19+D19+F19+H19 -> 2.69 | U19: ='THANG 2'!S20+'THANG 3'!S20+'THANG 4'!S19 -> 358727.22
A20: 16 | B20: Nguyễn Thành Nam | C20: 3.99 | D20: 0.45 | F20: =C20*E20 -> 0 | G20: 0.15 | H20: =(C20+D20+F20)*G20 -> 0.666 | I20: =(C20+D20+F20+H20)*$S$1 -> 7607940 | J20: =(C20+D20+F20)*$S$1 -> 6615600 | L20: =SUM(I20:K20) -> 14223540 | M20: =L20*1% -> 142235.4 | S20: =M20 -> 142235.4 | T20: =C20+D20+F20+H20 -> 5.106 | U20: ='THANG 2'!S21+'THANG 3'!S21+'THANG 4'!S20 -> 612944.28
A21: 17 | B21: Thái Thị My Sa | C21: 3 | F21: =C21*E21 -> 0 | I21: =(C21+D21+F21+H21)*$S$1 -> 4470000 | J21: =(C21+D21+F21)*$S$1 -> 4470000 | L21: =SUM(I21:K21) -> 8940000 | M21: =L21*1% -> 89400 | S21: =M21 -> 89400 | T21: =C21+D21+F21+H21 -> 3 | U21: ='THANG 2'!S22+'THANG 3'!S22+'THANG 4'!S21 -> 429120
A22: 18 | B22: Nguyễn Hữu Thiện | C22: 3.33 | D22: 0.45 | F22: =C22*E22 -> 0 | G22: 0.07 | I22: =(C22+D22+F22+H22)*$S$1 -> 5632200 | J22: =(C22+D22+F22)*$S$1 -> 5632200 | L22: =SUM(I22:K22) -> 11264400 | M22: =L22*1% -> 112644 | S22: =M22 -> 112644 | T22: =C22+D22+F22+H22 -> 3.78 | U22: =S22 -> 112644
A23: TỔNG CỘNG: | J23: =SUM(J5:J22) -> 1.1275747e+08 | K23: =SUM(K5:K22) -> 0 | L23: =SUM(L5:L22) -> 2.3833666e+08 | M23: =SUM(M5:M22) -> 2383366.6 | N23: =SUM(N5:N22) -> 0 | O23: =SUM(O5:O22) -> 0 | P23: =SUM(P5:P22) -> 0 | Q23: =SUM(Q5:Q22) -> 0 | ... S23: =SUM(S5:S22) -> 2383366.6 | U23: =SUM(U5:U22) -> 10523356
A25: - Chi bộ trích lại 30% tiền thu đảng phí: | D25: =S23*30% -> 715009.97
A26: - Chi bộ nộp lên đảng bộ trường 70%: | D26: =S23*70% -> 1668356.6
A27: NGƯỜI LẬP BÁO CÁO | L27: T/M CHI BỘ
M28: BÍ THƯ
L34: Lâm Viết Dũng

Sheet THANG 5
A1: ĐẢNG BỘ TRƯỜNG CAO ĐẲNG LÝ TỰ TRỌNG THÀNH PHỐ HỒ CHÍ MINH CHI BỘ 2 * | G1: CỘNG HÒA XÃ HỘI CHỦ NGHĨA VIỆT NAM Độc lập - Tự do - Hạnh phúc | S1: 1490000
A2: BẢNG TỔNG HỢP Các khoản thu nhập dùng để tính đóng đảng phí tháng 5/2020
A3: TT | B3: Họ tên | C3: HS lương | D3: PC CV | E3: PC VK | G3: Phụ cấp TNNG | I3: Tổng lương | J3: Thi đua T4/2020 | K3: Hiệu quả Quý 1/2020 | L3: Tổng số tiền tính đảng phí | M3: Đảng phí 1% | N3: Truy thu | S3: Số tiền nộp
A4: 1 | B4: 2 | C4: 3 | D4: 4 | E4: 5 | F4: 6=3*5 | G4: 7 | H4: 8=(3+4+6)*7 | I4: 9 | J4: 10 | K4: 11 | L4: 12=9+10+11 | M4: 13=12*1% | S4: 14
A5: 1 | B5: Phạm Hữu Lộc | C5: 4.98 | D5: 0.9 | E5: 0.1 | F5: =C5*E5 -> 0.498 | G5: 0.33 | H5: =(C5+D5+F5)*G5 -> 2.10474 | I5: =(C5+D5+F5+H5)*$S$1 -> 12639283 | J5: =(C5+D5+F5)*$S$1 -> 9503220 | K5: 17105796 | L5: =SUM(I5:K5) -> 39248299 | M5: =L5*1% -> 392482.99 | S5: =M5 -> 392482.99 | T5: =C5+D5+F5+H5 -> 8.48274
A6: 2 | B6: Lâm Viết Dũng | C6: 4.65 | D6: 0.45 | F6: =C6*E6 -> 0 | G6: 0.18 | H6: =(C6+D6+F6)*G6 -> 0.918 | I6: =(C6+D6+F6+H6)*$S$1 -> 8966820 | J6: 7674990 | K6: 13678200 | L6: =SUM(I6:K6) -> 30320010 | M6: =L6*1% -> 303200.1 | S6: =M6 -> 303200.1 | T6: =C6+D6+F6+H6 -> 6.018
A7: 3 | B7: Trương Thị Hồng | C7: 2.269 | F7: =C7*E7 -> 0 | H7: =(C7+D7+F7)*G7 -> 0 | I7: =(C7+D7+F7+H7)*$S$1 -> 3380810 | J7: 3414618 | K7: 6820416.7 | L7: =SUM(I7:K7) -> 13615845 | M7: =L7*1% -> 136158.45 | S7: =M7 -> 136158.45 | T7: =C7+D7+F7+H7 -> 2.269
A8: 4 | B8: Nguyễn Văn Chiến | C8: 3.99 | D8: 0.45 | F8: =C8*E8 -> 0 | I8: =(C8+D8+F8+H8)*$S$1 -> 6615600 | J8: 4697076 | K8: 9526464 | L8: =SUM(I8:K8) -> 20839140 | M8: =L8*1% -> 208391.4 | S8: =M8 -> 208391.4 | T8: =C8+D8+F8+H8 -> 4.44
A9: 5 | B9: Nguyễn Thị Hoa | C9: 4.98 | D9: 0.35 | F9: =C9*E9 -> 0 | I9: =(C9+D9+F9+H9)*$S$1 -> 7941700 | J9: 8021117 | K9: 11262775 | L9: =SUM(I9:K9) -> 27225592 | M9: =L9*1% -> 272255.92 | S9: =M9 -> 272255.92 | T9: =C9+D9+F9+H9 -> 5.33
A10: 6 | B10: Nguyễn Văn Tấn | C10: 4.98 | D10: 0.35 | E10: 0.11 | F10: =C10*E10 -> 0.5478 | I10: =(C10+D10+F10+H10)*$S$1 -> 8757922 | J10: 8626553 | K10: 15764260 | L10: =SUM(I10:K10) -> 33148735 | M10: =L10*1% -> 331487.35 | S10: =M10 -> 331487.35 | T10: =C10+D10+F10+H10 -> 5.8778
A11: 7 | B11: Nguyễn T Kim Dung | C11: 3.99 | D11: 0.35 | F11: =C11*E11 -> 0 | I11: =(C11+D11+F11+H11)*$S$1 -> 6466600 | J11: 4752951 | K11: 9311904 | L11: =SUM(I11:K11) -> 20531455 | M11: =L11*1% -> 205314.55 | S11: =M11 -> 205314.55 | T11: =C11+D11+F11+H11 -> 4.34
A12: 8 | B12: Nguyễn Chí Nhân | C12: 3.99 | D12: 0.45 | F12: =C12*E12 -> 0 | G12: 0.15 | H12: =(C12+D12+F12)*G12 -> 0.666 | I12: =(C12+D12+F12+H12)*$S$1 -> 7607940 | J12: 3870126 | K12: 11908080 | L12: =SUM(I12:K12) -> 23386146 | M12: =L12*1% -> 233861.46 | S12: =M12 -> 233861.46 | T12: =C12+D12+F12+H12 -> 5.106
A13: 9 | B13: Lê Quang Liêm | C13: 4.65 | D13: 0.45 | F13: =C13*E13 -> 0 | G13: 0.19 | H13: =(C13+D13+F13)*G13 -> 0.969 | I13: =(C13+D13+F13+H13)*$S$1 -> 9042810 | J13: 7674990 | K13: 13678200 | L13: =SUM(I13:K13) -> 30396000 | M13: =L13*1% -> 303960 | S13: =M13 -> 303960 | T13: =C13+D13+F13+H13 -> 6.069
A14: 10 | B14: Nguyễn Ngọc Trang | C14: 5.76 | D14: 0.45 | F14: =C14*E14 -> 0 | G14: 0.27 | H14: =(C14+D14+F14)*G14 -> 1.6767 | I14: =(C14+D14+F14+H14)*$S$1 -> 11751183 | J14: 6569559 | K14: 12657967 | L14: =SUM(I14:K14) -> 30978709 | M14: =L14*1% -> 309787.09 | S14: =M14 -> 309787.09 | T14: =C14+D14+F14+H14 -> 7.8867
A15: 11 | B15: Nguyễn Hữu Thiện | C15: 3.33 | D15: 0.45 | F15: =C15*E15 -> 0 | G15: 0.07 | H15: =(C15+D15+F15)*G15 -> 0.2646 | I15: =(C15+D15+F15+H15)*$S$1 -> 6026454 | J15: 5688522 | K15: 10137960 | L15: =SUM(I15:K15) -> 21852936 | M15: =L15*1% -> 218529.36 | S15: =M15 -> 218529.36 | T15: =C15+D15+F15+H15 -> 4.0446
A16: 12 | B16: Võ Thị Xuân Thơ | C16: 3.99 | F16: =C16*E16 -> 0 | I16: =(C16+D16+F16+H16)*$S$1 -> 5945100 | J16: 4221021 | K16: 10701180 | L16: =SUM(I16:K16) -> 20867301 | M16: =L16*1% -> 208673.01 | S16: =M16 -> 208673.01 | T16: =C16+D16+F16+H16 -> 3.99
A17: 13 | B17: Phạm Hữu Tấn | F17: =C17*E17 -> 0 | I17: 5313481 | J17: 2922415 | L17: =SUM(I17:K17) -> 8235896 | M17: =L17*1% -> 82358.96 | S17: =M17 -> 82358.96 | T17: =C17+D17+F17+H17 -> 0
A18: 14 | B18: Nguyễn Văn Chì | C18: 3.33 | F18: =C18*E18 -> 0 | I18: =(C18+D18+F18+H18)*$S$1 -> 4961700 | J18: 3150679.5 | K18: 6933044.2 | L18: =SUM(I18:K18) -> 15045424 | M18: =L18*1% -> 150454.24 | S18: =M18 -> 150454.24 | T18: =C18+D18+F18+H18 -> 3.33
A19: 15 | B19: Lưu Hoàng Hải Yến | C19: 3 | F19: =C19*E19 -> 0 | I19: =(C19+D19+F19+H19)*$S$1 -> 4470000 | J19: 4514700 | K19: 10728000 | L19: =SUM(I19:K19) -> 19712700 | M19: =L19*1% -> 197127 | S19: =M19 -> 197127 | T19: =C19+D19+F19+H19 -> 3
A20: 16 | B20: Lương Xuân Thịnh | C20: 2.34 | D20: 0.35 | F20: =C20*E20 -> 0 | I20: =(C20+D20+F20+H20)*$S$1 -> 4008100 | J20: 3947978.5 | K20: 8571398.7 | L20: =SUM(I20:K20) -> 16527477 | M20: =L20*1% -> 165274.77 | S20: =M20 -> 165274.77 | T20: =C20+D20+F20+H20 -> 2.69
A21: 17 | B21: Nguyễn Thành Nam | C21: 3.99 | D21: 0.45 | F21: =C21*E21 -> 0 | G21: 0.15 | H21: =(C21+D21+F21)*G21 -> 0.666 | I21: =(C21+D21+F21+H21)*$S$1 -> 7607940 | J21: 4035516 | K21: 11096978 | L21: =SUM(I21:K21) -> 22740434 | M21: =L21*1% -> 227404.34 | S21: =M21 -> 227404.34 | T21: =C21+D21+F21+H21 -> 5.106
A22: 18 | B22: Thái Thị My Sa | C22: 3 | F22: =C22*E22 -> 0 | I22: =(C22+D22+F22+H22)*$S$1 -> 4470000 | J22: 3620700 | K22: 10572522 | L22: =SUM(I22:K22) -> 18663222 | M22: =L22*1% -> 186632.22 | S22: =M22 -> 186632.22 | T22: =C22+D22+F22+H22 -> 3
A23: TỔNG CỘNG: | J23: =SUM(J5:J22) -> 96906732 | K23: =SUM(K5:K22) -> 1.9045514e+08 | L23: =SUM(L5:L22) -> 4.1333532e+08 | M23: =SUM(M5:M22) -> 4133353.2 | N23: =SUM(N5:N22) -> 0 | O23: =SUM(O5:O22) -> 0 | P23: =SUM(P5:P22) -> 0 | Q23: =SUM(Q5:Q22) -> 0 | ... S23: =SUM(S5:S22) -> 4133353.2
A25: - Chi bộ trích lại 30% tiền thu đảng phí: | D25: =S23*30% -> 1240006
A26: - Chi bộ nộp lên đảng bộ trường 70%: | D26: =S23*70% -> 2893347.2
A27: NGƯỜI LẬP BÁO CÁO | L27: T/M CHI BỘ
M28: BÍ THƯ
L34: Lâm Viết Dũng

Sheet THANG 6-2020
A1: ĐẢNG BỘ TRƯỜNG CAO ĐẲNG LÝ TỰ TRỌNG THÀNH PHỐ HỒ CHÍ MINH CHI BỘ 2 * | G1: CỘNG HÒA XÃ HỘI CHỦ NGHĨA VIỆT NAM Độc lập - Tự do - Hạnh phúc | S1: 1490000
A2: BẢNG TỔNG HỢP Các khoản thu nhập dùng để tính đóng đảng phí tháng 6/2020
A3: TT | B3: Họ tên | C3: HS lương | D3: PC CV | E3: PC VK | G3: Phụ cấp TNNG | I3: Tổng lương | J3: Thi đua T5/2020 | K3: Hiệu quả Quý 1/2020 | L3: Tổng số tiền tính đảng phí | M3: Đảng phí 1% | N3: Truy thu | S3: Số tiền nộp
A4: 1 | B4: 2 | C4: 3 | D4: 4 | E4: 5 | F4: 6=3*5 | G4: 7 | H4: 8=(3+4+6)*7 | I4: 9 | J4: 10 | K4: 11 | L4: 12=9+10+11 | M4: 13=12*1% | S4: 14
A5: 1 | B5: Phạm Hữu Lộc | C5: 4.98 | D5: 0.9 | E5: 0.1 | F5: =C5*E5 -> 0.498 | G5: 0.33 | H5: =(C5+D5+F5)*G5 -> 2.10474 | I5: =(C5+D5+F5+H5)*$S$1 -> 12639283 | J5: =(C5+D5+F5)*$S$1 -> 9503220 | L5: =SUM(I5:K5) -> 22142503 | M5: =L5*1% -> 221425.03 | S5: =M5 -> 221425.03 | T5: =C5+D5+F5+H5 -> 8.48274
A6: 2 | B6: Lâm Viết Dũng | C6: 4.65 | D6: 0.45 | F6: =C6*E6 -> 0 | G6: 0.18 | H6: =(C6+D6+F6)*G6 -> 0.918 | I6: =(C6+D6+F6+H6)*$S$1 -> 8966820 | J6: =(C6+D6+F6)*$S$1 -> 7599000 | L6: =SUM(I6:K6) -> 16565820 | M6: =L6*1% -> 165658.2 | S6: =M6 -> 165658.2 | T6: =C6+D6+F6+H6 -> 6.018
A7: 3 | B7: Trương Thị Hồng | C7: 2.269 | F7: =C7*E7 -> 0 | H7: =(C7+D7+F7)*G7 -> 0 | I7: =(C7+D7+F7+H7)*$S$1 -> 3380810 | J7: =(C7+D7+F7)*$S$1 -> 3380810 | L7: =SUM(I7:K7) -> 6761620 | M7: =L7*1% -> 67616.2 | S7: =M7 -> 67616.2 | T7: =C7+D7+F7+H7 -> 2.269
A8: 4 | B8: Nguyễn Văn Chiến | C8: 3.99 | D8: 0.45 | F8: =C8*E8 -> 0 | I8: =(C8+D8+F8+H8)*$S$1 -> 6615600 | J8: =(C8+D8+F8)*$S$1 -> 6615600 | L8: =SUM(I8:K8) -> 13231200 | M8: =L8*1% -> 132312 | S8: =M8 -> 132312 | T8: =C8+D8+F8+H8 -> 4.44
A9: 5 | B9: Nguyễn Thị Hoa | C9: 4.98 | D9: 0.35 | F9: =C9*E9 -> 0 | I9: =(C9+D9+F9+H9)*$S$1 -> 7941700 | J9: 6353360 | L9: =SUM(I9:K9) -> 14295060 | M9: =L9*1% -> 142950.6 | S9: =M9 -> 142950.6 | T9: =C9+D9+F9+H9 -> 5.33
A10: 6 | B10: Nguyễn Văn Tấn | C10: 4.98 | D10: 0.35 | E10: 0.11 | F10: =C10*E10 -> 0.5478 | I10: =(C10+D10+F10+H10)*$S$1 -> 8757922 | J10: =(C10+D10+F10)*$S$1 -> 8757922 | L10: =SUM(I10:K10) -> 17515844 | M10: =L10*1% -> 175158.44 | S10: =M10 -> 175158.44 | T10: =C10+D10+F10+H10 -> 5.8778
A11: 7 | B11: Nguyễn T Kim Dung | C11: 3.99 | D11: 0.35 | F11: =C11*E11 -> 0 | I11: =(C11+D11+F11+H11)*$S$1 -> 6466600 | J11: =(C11+D11+F11)*$S$1 -> 6466600 | L11: =SUM(I11:K11) -> 12933200 | M11: =L11*1% -> 129332 | S11: =M11 -> 129332 | T11: =C11+D11+F11+H11 -> 4.34
A12: 8 | B12: Nguyễn Chí Nhân | C12: 3.99 | D12: 0.45 | F12: =C12*E12 -> 0 | G12: 0.15 | H12: =(C12+D12+F12)*G12 -> 0.666 | I12: =(C12+D12+F12+H12)*$S$1 -> 7607940 | J12: =(C12+D12+F12)*$S$1 -> 6615600 | L12: =SUM(I12:K12) -> 14223540 | M12: =L12*1% -> 142235.4 | S12: =M12 -> 142235.4 | T12: =C12+D12+F12+H12 -> 5.106
A13: 9 | B13: Lê Quang Liêm | C13: 4.65 | D13: 0.45 | F13: =C13*E13 -> 0 | G13: 0.19 | H13: =(C13+D13+F13)*G13 -> 0.969 | I13: =(C13+D13+F13+H13)*$S$1 -> 9042810 | J13: =(C13+D13+F13)*$S$1 -> 7599000 | L13: =SUM(I13:K13) -> 16641810 | M13: =L13*1% -> 166418.1 | S13: =M13 -> 166418.1 | T13: =C13+D13+F13+H13 -> 6.069
A14: 10 | B14: Nguyễn Ngọc Trang | C14: 5.76 | D14: 0.45 | F14: =C14*E14 -> 0 | G14: 0.27 | H14: =(C14+D14+F14)*G14 -> 1.6767 | I14: =(C14+D14+F14+H14)*$S$1 -> 11751183 | J14: =(C14+D14+F14)*$S$1 -> 9252900 | L14: =SUM(I14:K14) -> 21004083 | M14: =L14*1% -> 210040.83 | S14: =M14 -> 210040.83 | T14: =C14+D14+F14+H14 -> 7.8867
A15: 11 | B15: Nguyễn Hữu Thiện | C15: 3.33 | D15: 0.45 | F15: =C15*E15 -> 0 | G15: 0.07 | H15: =(C15+D15+F15)*G15 -> 0.2646 | I15: =(C15+D15+F15+H15)*$S$1 -> 6026454 | J15: =(C15+D15+F15)*$S$1 -> 5632200 | L15: =SUM(I15:K15) -> 11658654 | M15: =L15*1% -> 116586.54 | S15: =M15 -> 116586.54 | T15: =C15+D15+F15+H15 -> 4.0446
A16: 12 | B16: Đỗ Tuấn Việt | C16: 3.66 | D16: 0.45 | F16: =C16*E16 -> 0 | G16: 0.11 | H16: =(C16+D16+F16)*G16 -> 0.4521 | I16: =(C16+D16+F16+H16)*$S$1 -> 6797529 | J16: =(C16+D16+F16)*$S$1 -> 6123900 | L16: =SUM(I16:K16) -> 12921429 | M16: =L16*1% -> 129214.29 | S16: =M16 -> 129214.29 | T16: =C16+D16+F16+H16 -> 4.5621
A17: 13 | B17: Phan Đức Long | C17: 4.65 | D17: 0.25 | F17: =C17*E17 -> 0 | G17: 0.18 | H17: =(C17+D17+F17)*G17 -> 0.882 | I17: =(C17+D17+F17+H17)*$S$1 -> 8615180 | J17: =(C17+D17+F17)*$S$1 -> 7301000 | L17: =SUM(I17:K17) -> 15916180 | M17: =L17*1% -> 159161.8 | S17: =M17 -> 159161.8 | T17: =C17+D17+F17+H17 -> 5.782
A18: 14 | B18: Võ Thị Xuân Thơ | C18: 3.99 | F18: =C18*E18 -> 0 | I18: =(C18+D18+F18+H18)*$S$1 -> 5945100 | J18: =(C18+D18+F18)*$S$1 -> 5945100 | L18: =SUM(I18:K18) -> 11890200 | M18: =L18*1% -> 118902 | S18: =M18 -> 118902 | T18: =C18+D18+F18+H18 -> 3.99
A19: 15 | B19: Phạm Hữu Tấn | I19: 5313481 | J19: 2922415 | L19: =SUM(I19:K19) -> 8235896 | M19: =L19*1% -> 82358.96 | S19: =M19 -> 82358.96 | T19: =C19+D19+F19+H19 -> 0
A20: 16 | B20: Nguyễn Văn Chì | C20: 3.33 | F20: =C20*E20 -> 0 | I20: =(C20+D20+F20+H20)*$S$1 -> 4961700 | J20: =(C20+D20+F20)*$S$1 -> 4961700 | L20: =SUM(I20:K20) -> 9923400 | M20: =L20*1% -> 99234 | S20: =M20 -> 99234 | T20: =C20+D20+F20+H20 -> 3.33
A21: 17 | B21: Lưu Hoàng Hải Yến | C21: 3 | F21: =C21*E21 -> 0 | I21: =(C21+D21+F21+H21)*$S$1 -> 4470000 | J21: =(C21+D21+F21)*$S$1 -> 4470000 | L21: =SUM(I21:K21) -> 8940000 | M21: =L21*1% -> 89400 | S21: =M21 -> 89400 | T21: =C21+D21+F21+H21 -> 3
A22: 18 | B22: Nguyễn Trung Dũng | I22: 5214164 | J22: 2867790 | L22: =SUM(I22:K22) -> 8081954 | M22: =L22*1% -> 80819.54 | S22: =M22 -> 80819.54 | T22: =C22+D22+F22+H22 -> 0
A23: 19 | B23: Lương Xuân Thịnh | C23: 2.34 | D23: 0.35 | F23: =C23*E23 -> 0 | I23: =(C23+D23+F23+H23)*$S$1 -> 4008100 | J23: =(C23+D23+F23)*$S$1 -> 4008100 | L23: =SUM(I23:K23) -> 8016200 | M23: =L23*1% -> 80162 | S23: =M23 -> 80162 | T23: =C23+D23+F23+H23 -> 2.69
A24: 20 | B24: Nguyễn Thành Nam | C24: 3.99 | D24: 0.45 | F24: =C24*E24 -> 0 | G24: 0.15 | H24: =(C24+D24+F24)*G24 -> 0.666 | I24: =(C24+D24+F24+H24)*$S$1 -> 7607940 | J24: =(C24+D24+F24)*$S$1 -> 6615600 | L24: =SUM(I24:K24) -> 14223540 | M24: =L24*1% -> 142235.4 | S24: =M24 -> 142235.4 | T24: =C24+D24+F24+H24 -> 5.106
A25: 21 | B25: Thái Thị My Sa | C25: 3 | F25: =C25*E25 -> 0 | I25: =(C25+D25+F25+H25)*$S$1 -> 4470000 | J25: =(C25+D25+F25)*$S$1 -> 4470000 | L25: =SUM(I25:K25) -> 8940000 | M25: =L25*1% -> 89400 | S25: =M25 -> 89400 | T25: =C25+D25+F25+H25 -> 3
A26: TỔNG CỘNG: | J26: =SUM(J5:J25) -> 127461817 | K26: =SUM(K5:K25) -> 0 | L26: =SUM(L5:L25) -> 2.7406213e+08 | M26: =SUM(M5:M25) -> 2740621.3 | N26: =SUM(N5:N25) -> 0 | O26: =SUM(O5:O25) -> 0 | P26: =SUM(P5:P25) -> 0 | Q26: =SUM(Q5:Q25) -> 0 | ... S26: =SUM(S5:S25) -> 2740621.3
A28: - Chi bộ trích lại 30% tiền thu đảng phí: | D28: =S26*30% -> 822186.4
A29: - Chi bộ nộp lên đảng bộ trường 70%: | D29: =S26*70% -> 1918434.9
A30: NGƯỜI LẬP BÁO CÁO | L30: T/M CHI BỘ
M31: BÍ THƯ
A37: Trương Thị Hồng | L37: Lâm Viết Dũng

Sheet THANG 7-2020
A1: ĐẢNG BỘ TRƯỜNG CAO ĐẲNG LÝ TỰ TRỌNG THÀNH PHỐ HỒ CHÍ MINH CHI BỘ 2 * | G1: CỘNG HÒA XÃ HỘI CHỦ NGHĨA VIỆT NAM Độc lập - Tự do - Hạnh phúc | S1: 1490000
A2: BẢNG TỔNG HỢP Các khoản thu nhập dùng để tính đóng đảng phí tháng 7/2020
A3: TT | B3: Họ tên | C3: HS lương | D3: PC CV | E3: PC VK | G3: Phụ cấp TNNG | I3: Tổng lương | J3: Thi đua T6/2020 | K3: Hiệu quả Quý 1/2020 | L3: Tổng số tiền tính đảng phí | M3: Đảng phí 1% | N3: Truy thu | S3: Số tiền nộp
A4: 1 | B4: 2 | C4: 3 | D4: 4 | E4: 5 | F4: 6=3*5 | G4: 7 | H4: 8=(3+4+6)*7 | I4: 9 | J4: 10 | K4: 11 | L4: 12=9+10+11 | M4: 13=12*1% | S4: 14
A5: 1 | B5: Phạm Hữu Lộc | C5: 4.98 | D5: 0.9 | E5: 0.1 | F5: =C5*E5 -> 0.498 | G5: 0.33 | H5: =(C5+D5+F5)*G5 -> 2.10474 | I5: =(C5+D5+F5+H5)*$S$1 -> 12639283 | J5: =(C5+D5+F5)*$S$1 -> 9503220 | L5: =SUM(I5:K5) -> 22142503 | M5: =L5*1% -> 221425.03 | S5: =M5 -> 221425.03 | T5: =C5+D5+F5+H5 -> 8.48274
A6: 2 | B6: Lâm Viết Dũng | C6: 4.65 | D6: 0.45 | F6: =C6*E6 -> 0 | G6: 0.18 | H6: =(C6+D6+F6)*G6 -> 0.918 | I6: =(C6+D6+F6+H6)*$S$1 -> 8966820 | J6: =(C6+D6+F6)*$S$1 -> 7599000 | L6: =SUM(I6:K6) -> 16565820 | M6: =L6*1% -> 165658.2 | S6: =M6 -> 165658.2 | T6: =C6+D6+F6+H6 -> 6.018
A7: 3 | B7: Trương Thị Hồng | C7: 2.269 | F7: =C7*E7 -> 0 | H7: =(C7+D7+F7)*G7 -> 0 | I7: =(C7+D7+F7+H7)*$S$1 -> 3380810 | J7: =(C7+D7+F7)*$S$1 -> 3380810 | L7: =SUM(I7:K7) -> 6761620 | M7: =L7*1% -> 67616.2 | S7: =M7 -> 67616.2 | T7: =C7+D7+F7+H7 -> 2.269
A8: 4 | B8: Nguyễn Văn Chiến | C8: 3.99 | D8: 0.45 | F8: =C8*E8 -> 0 | I8: =(C8+D8+F8+H8)*$S$1 -> 6615600 | J8: =(C8+D8+F8)*$S$1 -> 6615600 | L8: =SUM(I8:K8) -> 13231200 | M8: =L8*1% -> 132312 | S8: =M8 -> 132312 | T8: =C8+D8+F8+H8 -> 4.44
A9: 5 | B9: Nguyễn Thị Hoa | C9: 4.98 | D9: 0.35 | F9: =C9*E9 -> 0 | I9: =(C9+D9+F9+H9)*$S$1 -> 7941700 | J9: =(C9+D9+F9)*$S$1 -> 7941700 | L9: =SUM(I9:K9) -> 15883400 | M9: =L9*1% -> 158834 | S9: =M9 -> 158834 | T9: =C9+D9+F9+H9 -> 5.33
A10: 6 | B10: Nguyễn Văn Tấn | C10: 4.98 | D10: 0.35 | E10: 0.11 | F10: =C10*E10 -> 0.5478 | I10: =(C10+D10+F10+H10)*$S$1 -> 8757922 | J10: =(C10+D10+F10)*$S$1 -> 8757922 | L10: =SUM(I10:K10) -> 17515844 | M10: =L10*1% -> 175158.44 | S10: =M10 -> 175158.44 | T10: =C10+D10+F10+H10 -> 5.8778
A11: 7 | B11: Nguyễn T Kim Dung | C11: 3.99 | D11: 0.35 | F11: =C11*E11 -> 0 | I11: =(C11+D11+F11+H11)*$S$1 -> 6466600 | J11: =(C11+D11+F11)*$S$1 -> 6466600 | L11: =SUM(I11:K11) -> 12933200 | M11: =L11*1% -> 129332 | S11: =M11 -> 129332 | T11: =C11+D11+F11+H11 -> 4.34
A12: 8 | B12: Nguyễn Chí Nhân | C12: 3.99 | D12: 0.45 | F12: =C12*E12 -> 0 | G12: 0.15 | H12: =(C12+D12+F12)*G12 -> 0.666 | I12: =(C12+D12+F12+H12)*$S$1 -> 7607940 | J12: =(C12+D12+F12)*$S$1 -> 6615600 | L12: =SUM(I12:K12) -> 14223540 | M12: =L12*1% -> 142235.4 | S12: =M12 -> 142235.4 | T12: =C12+D12+F12+H12 -> 5.106
A13: 9 | B13: Lê Quang Liêm | C13: 4.65 | D13: 0.45 | F13: =C13*E13 -> 0 | G13: 0.19 | H13: =(C13+D13+F13)*G13 -> 0.969 | I13: =(C13+D13+F13+H13)*$S$1 -> 9042810 | J13: =(C13+D13+F13)*$S$1 -> 7599000 | L13: =SUM(I13:K13) -> 16641810 | M13: =L13*1% -> 166418.1 | S13: =M13 -> 166418.1 | T13: =C13+D13+F13+H13 -> 6.069
A14: 10 | B14: Nguyễn Ngọc Trang | C14: 5.76 | D14: 0.45 | F14: =C14*E14 -> 0 | G14: 0.27 | H14: =(C14+D14+F14)*G14 -> 1.6767 | I14: =(C14+D14+F14+H14)*$S$1 -> 11751183 | J14: =(C14+D14+F14)*$S$1 -> 9252900 | L14: =SUM(I14:K14) -> 21004083 | M14: =L14*1% -> 210040.83 | S14: =M14 -> 210040.83 | T14: =C14+D14+F14+H14 -> 7.8867
A15: 11 | B15: Nguyễn Hữu Thiện | C15: 3.33 | D15: 0.45 | F15: =C15*E15 -> 0 | G15: 0.07 | H15: =(C15+D15+F15)*G15 -> 0.2646 | I15: =(C15+D15+F15+H15)*$S$1 -> 6026454 | J15: =(C15+D15+F15)*$S$1 -> 5632200 | L15: =SUM(I15:K15) -> 11658654 | M15: =L15*1% -> 116586.54 | S15: =M15 -> 116586.54 | T15: =C15+D15+F15+H15 -> 4.0446
A16: 12 | B16: Đỗ Tuấn Việt | C16: 3.66 | D16: 0.45 | F16: =C16*E16 -> 0 | G16: 0.11 | H16: =(C16+D16+F16)*G16 -> 0.4521 | I16: =(C16+D16+F16+H16)*$S$1 -> 6797529 | J16: =(C16+D16+F16)*$S$1 -> 6123900 | L16: =SUM(I16:K16) -> 12921429 | M16: =L16*1% -> 129214.29 | S16: =M16 -> 129214.29 | T16: =C16+D16+F16+H16 -> 4.5621
A17: 13 | B17: Võ Thị Xuân Thơ | C17: 3.99 | F17: =C17*E17 -> 0 | I17: =(C17+D17+F17+H17)*$S$1 -> 5945100 | J17: =(C17+D17+F17)*$S$1 -> 5945100 | L17: =SUM(I17:K17) -> 11890200 | M17: =L17*1% -> 118902 | S17: =M17 -> 118902 | T17: =C17+D17+F17+H17 -> 3.99
A18: 14 | B18: Phạm Hữu Tấn | F18: =C18*E18 -> 0 | I18: 5313481 | J18: =I18*55% -> 2922414.6 | L18: =SUM(I18:K18) -> 8235895.6 | M18: =L18*1% -> 82358.956 | S18: =M18 -> 82358.956 | T18: =C18+D18+F18+H18 -> 0
A19: 15 | B19: Nguyễn Văn Chì | C19: 3.33 | F19: =C19*E19 -> 0 | I19: =(C19+D19+F19+H19)*$S$1 -> 4961700 | J19: =(C19+D19+F19)*$S$1 -> 4961700 | L19: =SUM(I19:K19) -> 9923400 | M19: =L19*1% -> 99234 | S19: =M19 -> 99234 | T19: =C19+D19+F19+H19 -> 3.33
A20: 16 | B20: Lưu Hoàng Hải Yến | C20: 3 | F20: =C20*E20 -> 0 | I20: =(C20+D20+F20+H20)*$S$1 -> 4470000 | J20: =(C20+D20+F20)*$S$1 -> 4470000 | L20: =SUM(I20:K20) -> 8940000 | M20: =L20*1% -> 89400 | S20: =M20 -> 89400 | T20: =C20+D20+F20+H20 -> 3
A21: 17 | B21: Lương Xuân Thịnh | C21: 2.34 | D21: 0.35 | F21: =C21*E21 -> 0 | I21: =(C21+D21+F21+H21)*$S$1 -> 4008100 | J21: =(C21+D21+F21)*$S$1 -> 4008100 | L21: =SUM(I21:K21) -> 8016200 | M21: =L21*1% -> 80162 | S21: =M21 -> 80162 | T21: =C21+D21+F21+H21 -> 2.69
A22: 18 | B22: Nguyễn Thành Nam | C22: 3.99 | D22: 0.45 | F22: =C22*E22 -> 0 | G22: 0.15 | H22: =(C22+D22+F22)*G22 -> 0.666 | I22: =(C22+D22+F22+H22)*$S$1 -> 7607940 | J22: =(C22+D22+F22)*$S$1 -> 6615600 | L22: =SUM(I22:K22) -> 14223540 | M22: =L22*1% -> 142235.4 | S22: =M22 -> 142235.4 | T22: =C22+D22+F22+H22 -> 5.106
A23: 19 | B23: Thái Thị My Sa | C23: 3 | F23: =C23*E23 -> 0 | I23: =(C23+D23+F23+H23)*$S$1 -> 4470000 | J23: =(C23+D23+F23)*$S$1 -> 4470000 | L23: =SUM(I23:K23) -> 8940000 | M23: =L23*1% -> 89400 | S23: =M23 -> 89400 | T23: =C23+D23+F23+H23 -> 3
A24: 20 | B24: Phan Đức Long | C24: 4.65 | D24: 0.25 | F24: =C24*E24 -> 0 | G24: 0.18 | H24: =(C24+D24+F24)*G24 -> 0.882 | I24: =(C24+D24+F24+H24)*$S$1 -> 8615180 | J24: =(C24+D24+F24)*$S$1 -> 7301000 | L24: =SUM(I24:K24) -> 15916180 | M24: =L24*1% -> 159161.8 | S24: =M24 -> 159161.8 | T24: =C24+D24+F24+H24 -> 5.782
A25: 21 | B25: Nguyễn Trung Dũng | F25: =C25*E25 -> 0 | I25: 5214164 | J25: 2867790 | L25: =SUM(I25:K25) -> 8081954 | M25: =L25*1% -> 80819.54 | S25: =M25 -> 80819.54 | T25: =C25+D25+F25+H25 -> 0
A26: TỔNG CỘNG: | J26: =SUM(J5:J25) -> 1.2905016e+08 | K26: =SUM(K5:K25) -> 0 | L26: =SUM(L5:L25) -> 2.7565047e+08 | M26: =SUM(M5:M25) -> 2756504.7 | N26: =SUM(N5:N25) -> 0 | O26: =SUM(O5:O25) -> 0 | P26: =SUM(P5:P25) -> 0 | Q26: =SUM(Q5:Q25) -> 0 | ... S26: =SUM(S5:S25) -> 2756504.7
A28: - Chi bộ trích lại 30% tiền thu đảng phí: | D28: =S26*30% -> 826951.42
A29: - Chi bộ nộp lên đảng bộ trường 70%: | D29: =S26*70% -> 1929553.3
A30: NGƯỜI LẬP BÁO CÁO | L30: T/M CHI BỘ
M31: BÍ THƯ
L37: Lâm Viết Dũng

Sheet THANG 8-2020
A1: ĐẢNG BỘ TRƯỜNG CAO ĐẲNG LÝ TỰ TRỌNG THÀNH PHỐ HỒ CHÍ MINH CHI BỘ 2 * | G1: CỘNG HÒA XÃ HỘI CHỦ NGHĨA VIỆT NAM Độc lập - Tự do - Hạnh phúc | S1: 1490000
A2: BẢNG TỔNG HỢP Các khoản thu nhập dùng để tính đóng đảng phí tháng 8/2020
A3: TT | B3: Họ tên | C3: HS lương | D3: PC CV | E3: PC VK | G3: Phụ cấp TNNG | I3: Tổng lương | J3: Thi đua T7/2020 | K3: Hiệu quả Quý 2/2020 | L3: Tổng số tiền tính đảng phí | M3: Đảng phí 1% | N3: Truy thu | S3: Số tiền nộp
A4: 1 | B4: 2 | C4: 3 | D4: 4 | E4: 5 | F4: 6=3*5 | G4: 7 | H4: 8=(3+4+6)*7 | I4: 9 | J4: 10 | K4: 11 | L4: 12=9+10+11 | M4: 13=12*1% | S4: 14
A5: 1 | B5: Phạm Hữu Lộc | C5: 4.98 | D5: 0.9 | E5: 0.1 | F5: =C5*E5 -> 0.498 | G5: 0.33 | H5: =(C5+D5+F5)*G5 -> 2.10474 | I5: =(C5+D5+F5+H5)*$S$1 -> 12639283 | J5: =(C5+D5+F5)*$S$1 -> 9503220 | K5: 17105796 | L5: =SUM(I5:K5) -> 39248299 | M5: =L5*1% -> 392482.99 | S5: =M5 -> 392482.99 | T5: =C5+D5+F5+H5 -> 8.48274
A6: 2 | B6: Lâm Viết Dũng | C6: 4.65 | D6: 0.45 | F6: =C6*E6 -> 0 | G6: 0.18 | H6: =(C6+D6+F6)*G6 -> 0.918 | I6: =(C6+D6+F6+H6)*$S$1 -> 8966820 | J6: =(C6+D6+F6)*$S$1 -> 7599000 | K6: 13678200 | L6: =SUM(I6:K6) -> 30244020 | M6: =L6*1% -> 302440.2 | S6: =M6 -> 302440.2 | T6: =C6+D6+F6+H6 -> 6.018
A7: 3 | B7: Trương Thị Hồng | C7: 2.269 | F7: =C7*E7 -> 0 | H7: =(C7+D7+F7)*G7 -> 0 | I7: =(C7+D7+F7+H7)*$S$1 -> 3380810 | J7: =(C7+D7+F7)*$S$1 -> 3380810 | K7: 8113944 | L7: =SUM(I7:K7) -> 14875564 | M7: =L7*1% -> 148755.64 | S7: =M7 -> 148755.64 | T7: =C7+D7+F7+H7 -> 2.269
A8: 4 | B8: Nguyễn Văn Chiến | C8: 3.99 | D8: 0.45 | F8: =C8*E8 -> 0 | H8: =(C8+D8+F8)*G8 -> 0 | I8: =(C8+D8+F8+H8)*$S$1 -> 6615600 | J8: =(C8+D8+F8)*$S$1 -> 6615600 | K8: 9742975 | L8: =SUM(I8:K8) -> 22974175 | M8: =L8*1% -> 229741.75 | S8: =M8 -> 229741.75 | T8: =C8+D8+F8+H8 -> 4.44
A9: 5 | B9: Nguyễn Thị Hoa | C9: 4.98 | D9: 0.35 | F9: =C9*E9 -> 0 | H9: =(C9+D9+F9)*G9 -> 0 | I9: =(C9+D9+F9+H9)*$S$1 -> 7941700 | J9: =(C9+D9+F9)*$S$1 -> 7941700 | K9: 13387437 | L9: =SUM(I9:K9) -> 29270837 | M9: =L9*1% -> 292708.37 | S9: =M9 -> 292708.37 | T9: =C9+D9+F9+H9 -> 5.33
A10: 6 | B10: Nguyễn Văn Tấn | C10: 4.98 | D10: 0.35 | E10: 0.11 | F10: =C10*E10 -> 0.5478 | H10: =(C10+D10+F10)*G10 -> 0 | I10: =(C10+D10+F10+H10)*$S$1 -> 8757922 | J10: =(C10+D10+F10)*$S$1 -> 8757922 | K10: 12420326 | L10: =SUM(I10:K10) -> 29936170 | M10: =L10*1% -> 299361.7 | S10: =M10 -> 299361.7 | T10: =C10+D10+F10+H10 -> 5.8778
A11: 7 | B11: Nguyễn T Kim Dung | C11: 3.99 | D11: 0.35 | F11: =C11*E11 -> 0 | H11: =(C11+D11+F11)*G11 -> 0 | I11: =(C11+D11+F11+H11)*$S$1 -> 6466600 | J11: =(C11+D11+F11)*$S$1 -> 6466600 | K11: 7759920 | L11: =SUM(I11:K11) -> 20693120 | M11: =L11*1% -> 206931.2 | S11: =M11 -> 206931.2 | T11: =C11+D11+F11+H11 -> 4.34
A12: 8 | B12: Nguyễn Chí Nhân | C12: 3.99 | D12: 0.45 | F12: =C12*E12 -> 0 | G12: 0.15 | H12: =(C12+D12+F12)*G12 -> 0.666 | I12: =(C12+D12+F12+H12)*$S$1 -> 7607940 | J12: =(C12+D12+F12)*$S$1 -> 6615600 | K12: 7072678 | L12: =SUM(I12:K12) -> 21296218 | M12: =L12*1% -> 212962.18 | S12: =M12 -> 212962.18 | T12: =C12+D12+F12+H12 -> 5.106
A13: 9 | B13: Lê Quang Liêm | C13: 4.65 | D13: 0.45 | F13: =C13*E13 -> 0 | G13: 0.19 | H13: =(C13+D13+F13)*G13 -> 0.969 | I13: =(C13+D13+F13+H13)*$S$1 -> 9042810 | J13: =(C13+D13+F13)*$S$1 -> 7599000 | K13: 13678200 | L13: =SUM(I13:K13) -> 30320010 | M13: =L13*1% -> 303200.1 | S13: =M13 -> 303200.1 | T13: =C13+D13+F13+H13 -> 6.069
A14: 10 | B14: Nguyễn Ngọc Trang | C14: 5.76 | D14: 0.45 | F14: =C14*E14 -> 0 | G14: 0.27 | H14: =(C14+D14+F14)*G14 -> 1.6767 | I14: =(C14+D14+F14+H14)*$S$1 -> 11751183 | J14: =(C14+D14+F14)*$S$1 -> 9252900 | K14: 13626998 | L14: =SUM(I14:K14) -> 34631081 | M14: =L14*1% -> 346310.81 | S14: =M14 -> 346310.81 | T14: =C14+D14+F14+H14 -> 7.8867
A15: 11 | B15: Nguyễn Hữu Thiện | C15: 3.33 | D15: 0.45 | F15: =C15*E15 -> 0 | G15: 0.07 | H15: =(C15+D15+F15)*G15 -> 0.2646 | I15: =(C15+D15+F15+H15)*$S$1 -> 6026454 | J15: =(C15+D15+F15)*$S$1 -> 5632200 | K15: 10137960 | L15: =SUM(I15:K15) -> 21796614 | M15: =L15*1% -> 217966.14 | S15: =M15 -> 217966.14 | T15: =C15+D15+F15+H15 -> 4.0446
A16: 12 | B16: Đỗ Tuấn Việt | C16: 3.66 | D16: 0.45 | F16: =C16*E16 -> 0 | G16: 0.11 | H16: =(C16+D16+F16)*G16 -> 0.4521 | I16: =(C16+D16+F16+H16)*$S$1 -> 6797529 | J16: =(C16+D16+F16)*$S$1 -> 6123900 | K16: 8100250 | L16: =SUM(I16:K16) -> 21021679 | M16: =L16*1% -> 210216.79 | S16: =M16 -> 210216.79 | T16: =C16+D16+F16+H16 -> 4.5621
A17: 13 | B17: Võ Thị Xuân Thơ | C17: 3.99 | F17: =C17*E17 -> 0 | H17: =(C17+D17+F17)*G17 -> 0 | I17: =(C17+D17+F17+H17)*$S$1 -> 5945100 | J17: =(C17+D17+F17)*$S$1 -> 5945100 | K17: 8755511 | L17: =SUM(I17:K17) -> 20645711 | M17: =L17*1% -> 206457.11 | S17: =M17 -> 206457.11 | T17: =C17+D17+F17+H17 -> 3.99
A18: 14 | B18: Phạm Hữu Tấn | F18: =C18*E18 -> 0 | H18: =(C18+D18+F18)*G18 -> 0 | I18: 5313481 | J18: =I18*55% -> 2922414.6 | L18: =SUM(I18:K18) -> 8235895.6 | M18: =L18*1% -> 82358.956 | S18: =M18 -> 82358.956 | T18: =C18+D18+F18+H18 -> 0
A19: 15 | B19: Nguyễn Văn Chì | C19: 3.33 | F19: =C19*E19 -> 0 | H19: =(C19+D19+F19)*G19 -> 0 | I19: =(C19+D19+F19+H19)*$S$1 -> 4961700 | J19: =(C19+D19+F19)*$S$1 -> 4961700 | K19: 5521019 | L19: =SUM(I19:K19) -> 15444419 | M19: =L19*1% -> 154444.19 | S19: =M19 -> 154444.19 | T19: =C19+D19+F19+H19 -> 3.33
A20: 16 | B20: Lưu Hoàng Hải Yến | C20: 3 | F20: =C20*E20 -> 0 | H20: =(C20+D20+F20)*G20 -> 0 | I20: =(C20+D20+F20+H20)*$S$1 -> 4470000 | J20: =(C20+D20+F20)*$S$1 -> 4470000 | K20: 10728000 | L20: =SUM(I20:K20) -> 19668000 | M20: =L20*1% -> 196680 | S20: =M20 -> 196680 | T20: =C20+D20+F20+H20 -> 3
A21: 17 | B21: Lương Xuân Thịnh | C21: 2.34 | D21: 0.35 | F21: =C21*E21 -> 0 | H21: =(C21+D21+F21)*G21 -> 0 | I21: =(C21+D21+F21+H21)*$S$1 -> 4008100 | J21: =(C21+D21+F21)*$S$1 -> 4008100 | K21: 9473691 | L21: =SUM(I21:K21) -> 17489891 | M21: =L21*1% -> 174898.91 | S21: =M21 -> 174898.91 | T21: =C21+D21+F21+H21 -> 2.69
A22: 18 | B22: Nguyễn Thành Nam | C22: 3.99 | D22: 0.45 | F22: =C22*E22 -> 0 | G22: 0.15 | H22: =(C22+D22+F22)*G22 -> 0.666 | I22: =(C22+D22+F22+H22)*$S$1 -> 7607940 | J22: =(C22+D22+F22)*$S$1 -> 6615600 | K22: 9021273 | L22: =SUM(I22:K22) -> 23244813 | M22: =L22*1% -> 232448.13 | S22: =M22 -> 232448.13 | T22: =C22+D22+F22+H22 -> 5.106
A23: 19 | B23: Thái Thị My Sa | C23: 3 | F23: =C23*E23 -> 0 | H23: =(C23+D23+F23)*G23 -> 0 | I23: =(C23+D23+F23+H23)*$S$1 -> 4470000 | J23: =(C23+D23+F23)*$S$1 -> 4470000 | K23: 9427636 | L23: =SUM(I23:K23) -> 18367636 | M23: =L23*1% -> 183676.36 | S23: =M23 -> 183676.36 | T23: =C23+D23+F23+H23 -> 3
A24: 20 | B24: Phan Đức Long | C24: 4.65 | D24: 0.25 | F24: =C24*E24 -> 0 | G24: 0.18 | H24: =(C24+D24+F24)*G24 -> 0.882 | I24: =(C24+D24+F24+H24)*$S$1 -> 8615180 | J24: =(C24+D24+F24)*$S$1 -> 7301000 | K24: 10951500 | L24: =SUM(I24:K24) -> 26867680 | M24: =L24*1% -> 268676.8 | S24: =M24 -> 268676.8 | T24: =C24+D24+F24+H24 -> 5.782
A25: 21 | B25: Nguyễn Trung Dũng | F25: =C25*E25 -> 0 | H25: =(C25+D25+F25)*G25 -> 0 | I25: 5214164 | J25: 2867790 | L25: =SUM(I25:K25) -> 8081954 | M25: =L25*1% -> 80819.54 | S25: =M25 -> 80819.54 | T25: =C25+D25+F25+H25 -> 0
A26: TỔNG CỘNG: | J26: =SUM(J5:J25) -> 1.2905016e+08 | K26: =SUM(K5:K25) -> 198703314 | L26: =SUM(L5:L25) -> 4.7435379e+08 | M26: =SUM(M5:M25) -> 4743537.9 | N26: =SUM(N5:N25) -> 0 | O26: =SUM(O5:O25) -> 0 | P26: =SUM(P5:P25) -> 0 | Q26: =SUM(Q5:Q25) -> 0 | ... S26: =SUM(S5:S25) -> 4743537.9
A28: - Chi bộ trích lại 30% tiền thu đảng phí: | D28: =S26*30% -> 1423061.4
A29: - Chi bộ nộp lên đảng bộ trường 70%: | D29: =S26*70% -> 3320476.5
A30: NGƯỜI LẬP BÁO CÁO | L30: T/M CHI BỘ
M31: BÍ THƯ
L37: Lâm Viết Dũng

Sheet THANG 2,3,4
A1: ĐẢNG BỘ TRƯỜNG CAO ĐẲNG LÝ TỰ TRỌNG THÀNH PHỐ HỒ CHÍ MINH CHI BỘ 2 * | E1: 1490000
A2: BẢNG TỔNG HỢP Đảng phí tháng 2, 3, 4/2020
A3: TT | B3: Họ tên | C3: Đảng phí tháng 2 | D3: Đảng phí tháng 3 | E3: Đảng phí tháng 4 | F3: Tổng cộng T 2,3,4
A4: 1 | B4: Phạm Hữu Lộc | C4: ='THANG 2'!S5 -> 563540.95 | D4: ='THANG 3'!S5 -> 221425.03 | E4: 221425.03 | F4: ='THANG 2'!S5+'THANG 3'!S5+'THANG 2,3,4'!E4 -> 1006391
A5: 2 | B5: Lâm Viết Dũng | C5: ='THANG 2'!M6 -> 439222.2 | D5: ='THANG 3'!S6 -> 165658.2 | E5: 165658.2 | F5: ='THANG 2'!S6+'THANG 3'!S6+'THANG 2,3,4'!E5 -> 770538.6
A6: 3 | B6: Trương Thị Hồng | C6: ='THANG 2'!S18 -> 148755.64 | D6: ='THANG 3'!S18 -> 67616.2 | E6: 67616.2 | F6: ='THANG 2'!S18+'THANG 3'!S18+'THANG 2,3,4'!E6 -> 283988.04
A7: 4 | B7: Nguyễn Văn Chiến | C7: ='THANG 2'!S10 -> 366897.6 | D7: ='THANG 3'!S10 -> 132312 | E7: 132312 | F7: ='THANG 2'!S10+'THANG 3'!S10+'THANG 2,3,4'!E7 -> 631521.6
A8: 5 | B8: Nguyễn Thanh Lâm | C8: ='THANG 2'!S9 -> 518210.85 | D8: ='THANG 3'!S9 -> 194890.39 | F8: ='THANG 2'!S9+'THANG 3'!S9 -> 713101.25
A9: 6 | B9: Nguyễn Thị Hoa | C9: ='THANG 2'!S7 -> 444735.2 | D9: ='THANG 3'!S7 -> 158834 | E9: 158834 | F9: ='THANG 2'!S7+'THANG 3'!S7+'THANG 2,3,4'!E9 -> 762403.2
A10: 7 | B10: Nguyễn Văn Tấn | C10: ='THANG 2'!S11 -> 485874.28 | D10: ='THANG 3'!S11 -> 175158.44 | E10: 175158.44 | F10: ='THANG 2'!S11+'THANG 3'!S11+'THANG 2,3,4'!E10 -> 836191.16
A11: 8 | B11: Nguyễn T Kim Dung | C11: ='THANG 2'!S12 -> 315570.08 | D11: ='THANG 3'!S12 -> 129332 | E11: 129332 | F11: ='THANG 2'!S12+'THANG 3'!S12+'THANG 2,3,4'!E11 -> 574234.08
A12: 9 | B12: Nguyễn Chí Nhân | C12: ='THANG 2'!S13 -> 332764.68 | D12: ='THANG 3'!S13 -> 142235.4 | E12: 142235.4 | F12: ='THANG 2'!S13+'THANG 3'!S13+'THANG 2,3,4'!E12 -> 617235.48
A13: 10 | B13: Lê Quang Liêm | C13: ='THANG 2'!S14 -> 439982.1 | D13: ='THANG 3'!S14 -> 166418.1 | E13: 166418.1 | F13: ='THANG 2'!S14+'THANG 3'!S14+'THANG 2,3,4'!E13 -> 772818.3
A14: 11 | B14: Võ Thị Xuân Thơ | C14: ='THANG 2'!S15 -> 332925.6 | D14: ='THANG 3'!S15 -> 118902 | E14: 118902 | F14: ='THANG 2'!S15+'THANG 3'!S15+'THANG 2,3,4'!E14 -> 570729.6
A15: 12 | B15: Phạm Hữu Tấn | C15: ='THANG 2'!S16 -> 82358.956 | D15: ='THANG 3'!S16 -> 82358.956 | E15: 82358.956 | F15: ='THANG 2'!S16+'THANG 3'!S16+'THANG 2,3,4'!E15 -> 247076.87
A16: 13 | B16: Nguyễn Ngọc Trang | C16: ='THANG 2'!S17 -> 628969.23 | D16: ='THANG 3'!S17 -> 210040.83 | E16: 210040.83 | F16: ='THANG 2'!S17+'THANG 3'!S17+'THANG 2,3,4'!E16 -> 1049050.9
A17: 14 | B17: Nguyễn Văn Chì | C17: ='THANG 2'!S8 -> 260154 | D17: ='THANG 3'!S8 -> 99234 | E17: 99234 | F17: ='THANG 2'!S8+'THANG 3'!S8+'THANG 2,3,4'!E17 -> 458622
A18: 15 | B18: Lưu Hoàng Hải Yến | C18: ='THANG 2'!S19 -> 250320 | D18: ='THANG 3'!S19 -> 89400 | E18: 89400 | F18: ='THANG 2'!S19+'THANG 3'!S19+'THANG 2,3,4'!E18 -> 429120
A19: 16 | B19: Lương Xuân Thịnh | C19: ='THANG 2'!S20 -> 198403.22 | D19: ='THANG 3'!S20 -> 80162 | E19: 80162 | F19: ='THANG 2'!S20+'THANG 3'!S20+'THANG 2,3,4'!E19 -> 358727.22
A20: 17 | B20: Nguyễn Thành Nam | C20: ='THANG 2'!S21 -> 328473.48 | D20: ='THANG 3'!S21 -> 142235.4 | E20: 142235.4 | F20: ='THANG 2'!S21+'THANG 3'!S21+'THANG 2,3,4'!E20 -> 612944.28
A21: 18 | B21: Thái Thị My Sa | C21: ='THANG 2'!S22 -> 250320 | D21: ='THANG 3'!S22 -> 89400 | E21: 89400 | F21: ='THANG 2'!S22+'THANG 3'!S22+'THANG 2,3,4'!E21 -> 429120
A22: 19 | B22: Nguyễn Hữu Thiện | E22: 112644 | F22: =E22 -> 112644
A23: TỔNG CỘNG: | C23: =SUM(C4:C22) -> 6387478.1 | D23: =SUM(D4:D22) -> 2465612.9 | E23: =SUM(E4:E22) -> 2383366.6 | F23: =SUM(F4:F22) -> 11236458
A25: - Chi bộ trích lại 30% tiền thu đảng phí:
A26: - Chi bộ nộp lên đảng bộ trường 70%:
A27: NGƯỜI LẬP BÁO CÁO
F29: =F23-F22-F19 -> 10765086
